BEGIN:VCALENDAR
METHOD:PUBLISH
X-WR-TIMEZONE:Europe/Berlin
PRODID:https://www.siwitermine.de
CALSCALE:GREGORIAN
VERSION:2.0
BEGIN:VTIMEZONE
TZID:Europe/Berlin
BEGIN:DAYLIGHT
TZOFFSETFROM:+0100
TZOFFSETTO:+0200
DTSTART:19810329T020000
RRULE:FREQ=YEARLY;BYMONTH=3;BYDAY=-1SU
TZNAME:CEST
END:DAYLIGHT
BEGIN:STANDARD
TZOFFSETFROM:+0200
TZOFFSETTO:+0100
DTSTART:19961027T030000
RRULE:FREQ=YEARLY;BYMONTH=10;BYDAY=-1SU
TZNAME:CET
END:STANDARD
END:VTIMEZONE
BEGIN:VEVENT
LOCATION:Herz-Jesu-Kirche Dillenburg | Wilhelmspl. 16
SUMMARY:Adventliche Orgelmatinée | 
DESCRIPTION:Es findet für eine halbe Stunde eine Matinée mit "Orgelmusik zum Advent" in der katholischen Pfarrkirche Herz Jesu Dillenburg. Kantor Joachim Dreher bringt dabei ausschließlich Werke von Johann Sebastian Bach zur Aufführung: Choralbearbeitung sowie die sogenannte "Dorische" Toccata und Fuge. Der Eintritt ist frei. Wie in den vergangenen Jahren wird im Rahmen dieser Orgelmatinée der neue Flyer "Kirchenmusik 2026" vorgestellt, den die beiden Kantoren Joachim Dreher und Petra Denker gemeinsam herausgeben und der alle kirchenmusikalischen Veranstaltungen Dillenburgs überschaubar präsentiert.  | Info: 02771 26 37 60 | https://www.siwitermine.de/61910 
UID:siwitermine/61910/2025-12-15-2W  
CLASS:PUBLIC
DTSTART;TZID=Europe/Berlin:20251220T120000
DTEND;TZID=Europe/Berlin:20251220T120000
DTSTAMP:20251212T101854
END:VEVENT
END:VCALENDAR
