BEGIN:VCALENDAR
METHOD:PUBLISH
X-WR-TIMEZONE:Europe/Berlin
PRODID:https://www.siwitermine.de
CALSCALE:GREGORIAN
VERSION:2.0
BEGIN:VTIMEZONE
TZID:Europe/Berlin
BEGIN:DAYLIGHT
TZOFFSETFROM:+0100
TZOFFSETTO:+0200
DTSTART:19810329T020000
RRULE:FREQ=YEARLY;BYMONTH=3;BYDAY=-1SU
TZNAME:CEST
END:DAYLIGHT
BEGIN:STANDARD
TZOFFSETFROM:+0200
TZOFFSETTO:+0100
DTSTART:19961027T030000
RRULE:FREQ=YEARLY;BYMONTH=10;BYDAY=-1SU
TZNAME:CET
END:STANDARD
END:VTIMEZONE
BEGIN:VEVENT
LOCATION:Campus Unteres Schloss / Gebäudeteil C / Raum US-C 109 | Unteres Schloß 3 |Siegen
SUMMARY:Svenja Reiner "Darling, I'm a nightmare dressed like a daydream." | Ambivalente Held*Innenerzählungen am Beispiel von Taylor Swift.
DESCRIPTION:Geschichten haben uns den Himmel erklärt, die Furcht vor der Dunkelheit genommen, die Raumfahrt lange vor dem Bau der ersten Rakete imaginiert. Geschichten lehren uns, wie man lebt, wie man liebt. Sie ordnen Erfahrungen, schaffen Bedeutung, kurz: Sie sind essenziell für Gemeinschaften. In ihrem Mittelpunkt stehen häufig Held*innen, die für etwas kämpfen, sich Widersachern entgegenstellen und bereit sind, alles zu riskieren. Der Vortrag untersucht die unterschiedlichen medialen Erzählungen über Taylor Swift als Popstar, Underdog und Feminist Icon, und zeigt, welche Narrative diesen Geschichten zu Grunde liegen. Damit verknüpft ist die grundsätzliche Überlegung: Werden Stars durch narrative Zuschreibung zu Held*innen - oder prägen Held*innenerzählungen unsere Wahrnehmung von Stars? Der Vortrag findet im Rahmen der Reihe "I need a hero" des Gestu_S und der Uni Siegen statt. Alle Veranstaltungen der Reihe sind kostenfrei besuchbar und für ein breites Publikum konzipiert. | Info: 0271 740-4553 oder 3870 | https://www.siwitermine.de/61831 
UID:siwitermine/61831/2025-12-15-2W  
CLASS:PUBLIC
DTSTART;TZID=Europe/Berlin:20251217T180000
DTEND;TZID=Europe/Berlin:20251217T180000
DTSTAMP:20251204T075651
END:VEVENT
END:VCALENDAR
