BEGIN:VCALENDAR
METHOD:PUBLISH
X-WR-TIMEZONE:Europe/Berlin
PRODID:https://www.siwitermine.de
CALSCALE:GREGORIAN
VERSION:2.0
BEGIN:VTIMEZONE
TZID:Europe/Berlin
BEGIN:DAYLIGHT
TZOFFSETFROM:+0100
TZOFFSETTO:+0200
DTSTART:19810329T020000
RRULE:FREQ=YEARLY;BYMONTH=3;BYDAY=-1SU
TZNAME:CEST
END:DAYLIGHT
BEGIN:STANDARD
TZOFFSETFROM:+0200
TZOFFSETTO:+0100
DTSTART:19961027T030000
RRULE:FREQ=YEARLY;BYMONTH=10;BYDAY=-1SU
TZNAME:CET
END:STANDARD
END:VTIMEZONE
BEGIN:VEVENT
LOCATION:Galerie Eduard Rangnau | Löhrstraße 28 | Siegen
SUMMARY:Schichtwerk - Abstraktion x Material | 
DESCRIPTION:22.11.2025 bis 23.12.2025 | Mi, Fr: 13.00 - 17.00 Uhr, Do: 10.00 - 12.00 Uhr, Sa: 10.00 -13.00 Uhr | Durch das Kombinieren und Überlagern von Acrylfarbe, verschiedenen Materialien wie Gips oder Beton, sowie den Einsatz von Collage- und Schriftfragmenten entstehen Werke mit vielschichtigen Oberflächen. Dabei werden Bereiche verdeckt, verschwinden und bleiben doch als prägende Spuren im Bildraum enthalten. Anderes legt sich darüber, tritt hervor und setzt neue Akzente - ein fortlaufender Dialog zwischen Verbergen und Offenlegen. Schichtwerk lädt ein, diesen Prozess des Werdens und Vergehens nachzuvollziehen und die Materialität als lebendigen Teil der Abstraktion zu verstehen.  | Info: . | https://www.siwitermine.de/61482 
UID:siwitermine/61482/2025-12-15-2W  
CLASS:PUBLIC
DTSTART;TZID=Europe/Berlin:20251215T000000Z
DTEND;TZID=Europe/Berlin:20251215T000000Z
DTSTAMP:20251110T083523
END:VEVENT
END:VCALENDAR
