BEGIN:VCALENDAR
METHOD:PUBLISH
X-WR-TIMEZONE:Europe/Berlin
PRODID:https://www.siwitermine.de
CALSCALE:GREGORIAN
VERSION:2.0
BEGIN:VTIMEZONE
TZID:Europe/Berlin
BEGIN:DAYLIGHT
TZOFFSETFROM:+0100
TZOFFSETTO:+0200
DTSTART:19810329T020000
RRULE:FREQ=YEARLY;BYMONTH=3;BYDAY=-1SU
TZNAME:CEST
END:DAYLIGHT
BEGIN:STANDARD
TZOFFSETFROM:+0200
TZOFFSETTO:+0100
DTSTART:19961027T030000
RRULE:FREQ=YEARLY;BYMONTH=10;BYDAY=-1SU
TZNAME:CET
END:STANDARD
END:VTIMEZONE
BEGIN:VEVENT
LOCATION:Siegerlandhalle | Koblenzer Str. 151 | 57072 Siegen
SUMMARY:Höhner | Höhner Weihnacht 2025
DESCRIPTION:Fröhlich und festlich, rockig und melodiös - die "Höhner Weihnacht" ist ein ganz besonderes Konzert. Deshalb möchten die Höhner auch 2025 wieder gemeinsam mit ihren Fans die Festzeit auf ihre ganz eigene Art begrüßen, nämlich mit kölschem Temperament, wunderbaren Weihnachtstönen und extra viel Gänsehaut-Jeföhl. Besinnlichkeit, Musik und gute Laune passen auch im Advent hervorragend zusammen; das stellen Patrick Lück, Jens Streifling, Micki Schläger, Heiko Braun, Edin ÄoliÄ und Freddi Lubitz-Ragland mit ihren Weihnachtskonzerten eindrucksvoll unter Beweis. Neben eigenen Songs präsentieren die Musiker klassische Weihnachtslieder, Lieder zum Fest aus aller Herren Länder und natürlich echte Evergreens wie "White Christmas" oder "Jingle Bells". "Schließlich möchten wir uns und unser Publikum schon mal musikalisch auf die Feiertage einstimmen!", erklärt die Band. Die Zuschauer dürfen dabei natürlich gerne mitsingen und mitfeiern. Besinnliche, leise Töne schlagen die Höhner auf ihrem Konzert an, denken in ihren Liedern über eine friedlichere, menschlichere Welt nach. Aber die Höhner wären nicht die Höhner, wenn sie nicht auch richtig Gas geben würden. Fetzige Rockhymnen und echte Stimmungsknaller reißen das Publikum mit, bis der gesamte Saal lauthals mitsingt, mitklatscht und tobt! Schließlich sind die Auftritte der Höhner immer mehr als bloße Konzerte. Hier wird offen und laut die Liebe zum Leben und zu den Mitmenschen gefeiert. "Und das passt doch ganz hervorragend zum Weihnachtsgedanken", finden die Höhner. | Info: 02405 499 500 | https://www.siwitermine.de/61210 
UID:siwitermine/61210/2025-12-15-2W  
CLASS:PUBLIC
DTSTART;TZID=Europe/Berlin:20251219T193000
DTEND;TZID=Europe/Berlin:20251219T193000
DTSTAMP:20251009T134252
END:VEVENT
END:VCALENDAR
