BEGIN:VCALENDAR
METHOD:PUBLISH
X-WR-TIMEZONE:Europe/Berlin
PRODID:https://www.siwitermine.de
CALSCALE:GREGORIAN
VERSION:2.0
BEGIN:VTIMEZONE
TZID:Europe/Berlin
BEGIN:DAYLIGHT
TZOFFSETFROM:+0100
TZOFFSETTO:+0200
DTSTART:19810329T020000
RRULE:FREQ=YEARLY;BYMONTH=3;BYDAY=-1SU
TZNAME:CEST
END:DAYLIGHT
BEGIN:STANDARD
TZOFFSETFROM:+0200
TZOFFSETTO:+0100
DTSTART:19961027T030000
RRULE:FREQ=YEARLY;BYMONTH=10;BYDAY=-1SU
TZNAME:CET
END:STANDARD
END:VTIMEZONE
BEGIN:VEVENT
LOCATION:Parkplatz Rewe | Geisweider Straße 27 | Siegen
SUMMARY:Trödeln aud dem REWE Parkplatz | Weihnachtströdel in Geisweid
DESCRIPTION:Auf dem Parkplatzgelände des REWE-Marktes in Geisweid lädt ein großer Markt zum Stöbern und Entdecken ein. Von 11 bis 18 Uhr können Besucherinnen und Besucher zwischen Trödel, Neuware und vielfältigen Angeboten bummeln. Kostenlose Parkplätze stehen in unmittelbarer Nähe, unter anderem unter der HTS, zur Verfügung. | Info: 0160 1228423 | https://www.siwitermine.de/60798 
UID:siwitermine/60798/2025-12-15-2W  
CLASS:PUBLIC
DTSTART;TZID=Europe/Berlin:20251221T110000
DTEND;TZID=Europe/Berlin:20251221T110000
DTSTAMP:20250908T125507
END:VEVENT
END:VCALENDAR
