BEGIN:VCALENDAR
METHOD:PUBLISH
X-WR-TIMEZONE:Europe/Berlin
PRODID:https://www.siwitermine.de
CALSCALE:GREGORIAN
VERSION:2.0
BEGIN:VTIMEZONE
TZID:Europe/Berlin
BEGIN:DAYLIGHT
TZOFFSETFROM:+0100
TZOFFSETTO:+0200
DTSTART:19810329T020000
RRULE:FREQ=YEARLY;BYMONTH=3;BYDAY=-1SU
TZNAME:CEST
END:DAYLIGHT
BEGIN:STANDARD
TZOFFSETFROM:+0200
TZOFFSETTO:+0100
DTSTART:19961027T030000
RRULE:FREQ=YEARLY;BYMONTH=10;BYDAY=-1SU
TZNAME:CET
END:STANDARD
END:VTIMEZONE
BEGIN:VEVENT
LOCATION:Otto-Flick-Halle | Moltkestr. 12 | Kreuztal
SUMMARY:Weihnachtszeitreise | Jördis Tielsch
DESCRIPTION:Weihnachtszeitreise mit Jördis Tielsch  einfach einsteigen und mitnehmen lassen zu einem magischen Seelenabend. Die Multiinstrumentalistin aus Sinn (Lahn-Dill-Kreis) ist längst keine Unbekannte mehr. Sie stand zuletzt mit Rea Garvey auf der Bühne und begleitet derzeit Purple Schulz auf seiner "Über(s)leben Tour" durch Deutschland. In der Weißen Villa in Dreslers Park begibt sie sich gemeinsam mit Peter Schneider (Gitarre) auf eine Weihnachtzeitreise mit traditionellen und modernen Weihnachtsliedern im Gepäck, die sie in einer ihr ganz eigenen Art mal besinnlich, aber auch mal beschwingt, interpretiert. Dazwischen findet sich auch der ein oder andere Song aus dem aktuellen Repertoire der herausragenden Singer-Songwriterin. Es sind nicht nur ihre phänomenale Bühnenpräsenz und die Virtuosität an zahlreichen Instrumenten, sondern es ist vor allem ihre einzigartige Hingabe an jede gespielte Note, an jedes gesungene Wort, gepaart mit der seltenen Gabe, ihr Publikum vom ersten Ton an dank ihrer warmherzigen, natürlichen Art zu verzaubern und mitzunehmen auf eine Weihnachtszeitreise, von der man gar nicht mehr heimkehren möchte. Also: Einfach einsteigen und mitnehmen lassen zu einem magischen Seelenabend in der Vorweihnachtszeit. | Info: +49 (0)2732 51-324 | https://www.siwitermine.de/60310 
UID:siwitermine/60310/2025-12-15-2W  
CLASS:PUBLIC
DTSTART;TZID=Europe/Berlin:20251219T200000
DTEND;TZID=Europe/Berlin:20251219T200000
DTSTAMP:20251007T153126
END:VEVENT
END:VCALENDAR
