BEGIN:VCALENDAR
METHOD:PUBLISH
X-WR-TIMEZONE:Europe/Berlin
PRODID:https://www.siwitermine.de
CALSCALE:GREGORIAN
VERSION:2.0
BEGIN:VTIMEZONE
TZID:Europe/Berlin
BEGIN:DAYLIGHT
TZOFFSETFROM:+0100
TZOFFSETTO:+0200
DTSTART:19810329T020000
RRULE:FREQ=YEARLY;BYMONTH=3;BYDAY=-1SU
TZNAME:CEST
END:DAYLIGHT
BEGIN:STANDARD
TZOFFSETFROM:+0200
TZOFFSETTO:+0100
DTSTART:19961027T030000
RRULE:FREQ=YEARLY;BYMONTH=10;BYDAY=-1SU
TZNAME:CET
END:STANDARD
END:VTIMEZONE
BEGIN:VEVENT
LOCATION:Stadtbibliothek Siegen | Markt 25 | 57072 Siegen
SUMMARY:Wolle & Nadel in der Stadtbibliothek Siegen | 
DESCRIPTION:Die Stadtbibliothek Siegen bietet zwei Mal im Monat die Veranstaltung "Wolle und Nadel" an. Diese richtet sich an Anfänger und Fortgeschrittene, die gerne stricken und sich darüber austauschen möchten. Es stehen Bücher und Zeitschriften aus dem Bestand der Bibliothek als Vorlagen zur Verfügung. Die Teilnehmenden bringen lediglich Wolle und Nadeln mit. Eine Anmeldung ist nicht erforderlich, und die Teilnehmerzahl ist unbegrenzt. | Info: (0271) 404-3011 | https://www.siwitermine.de/59690 
UID:siwitermine/59690/2025-12-15-2W  
CLASS:PUBLIC
DTSTART;TZID=Europe/Berlin:20251218T103000
DTEND;TZID=Europe/Berlin:20251218T103000
DTSTAMP:20250528T102730
END:VEVENT
END:VCALENDAR
