BEGIN:VCALENDAR
METHOD:PUBLISH
X-WR-TIMEZONE:Europe/Berlin
PRODID:https://www.siwitermine.de
CALSCALE:GREGORIAN
VERSION:2.0
BEGIN:VTIMEZONE
TZID:Europe/Berlin
BEGIN:DAYLIGHT
TZOFFSETFROM:+0100
TZOFFSETTO:+0200
DTSTART:19810329T020000
RRULE:FREQ=YEARLY;BYMONTH=3;BYDAY=-1SU
TZNAME:CEST
END:DAYLIGHT
BEGIN:STANDARD
TZOFFSETFROM:+0200
TZOFFSETTO:+0100
DTSTART:19961027T030000
RRULE:FREQ=YEARLY;BYMONTH=10;BYDAY=-1SU
TZNAME:CET
END:STANDARD
END:VTIMEZONE
BEGIN:VEVENT
LOCATION:Aktives Museum Südwestfalen | Siegen | Obergraben 10
SUMMARY:81. Ge(h)Denken an die Bombardierung und die Opfer der Nazi-Herrschaft in Siegen | Untold stories - nicht alle fanden Schutz in den Bunkern!
DESCRIPTION:Von der Zukunft der Erinnerung an das Schicksal von Zwangsarbeiterinnen und Zwangsarbeitern während des Nationalsozialismus in Siegen - ein neuer Lern- und Gedenkort entsteht. Am Tag des GEH-DENKENS an den Bombenangriff auf Siegen vom 16.12.1944 wollen wir an das Schicksal von Zwangsarbeitenden in unserer Stadt erinnern. Sie waren den Bomben meist fast schutzlos ausgeliefert, da ihnen in der Regel der Zugang zu Bunkern und Schutzstollen verwehrt war. Wir werden mit Zeitzeugen sprechen, die als Kinder erlebten, wie Zwangsarbeit ein fester Bestandteil des Alltags in Siegen zur Zeit des Nationalsozialismus war. Zeitweise war jeder dritte Bewohner Siegens ein Zwangsarbeiter oder eine Zwangsarbeiterin. Bis zu 13,5 Millionen Menschen wurden während des NS nach Deutschland zur Arbeit verschleppt. Allein in Siegen liegen fast 1000 Opfer als Zeugnis für dieses Verbrechen in unserer Vergangenheit auf Friedhöfen in der Region. Hat das Thema einen angemessenen Raum in der regionalen Erinnerung? Wir wollen uns über die bisherige Erinnerungsarbeit der Siegener Zivilgesellschaft (Z.B. THW-Jugend) zum Thema austauschen und die Pläne des Aktiven Museums für einen neuen zentralen Ort des Gedenkens und Lernens auf dem Friedhof Fludersbach (allein hier liegen über 190 Opfer) vorstellen. | Info: 0271 23834083 | https://www.siwitermine.de/61061 
UID:siwitermine/61061/2025-12-14-2W  
CLASS:PUBLIC
DTSTART;TZID=Europe/Berlin:20251216T150000
DTEND;TZID=Europe/Berlin:20251216T150000
DTSTAMP:20251216T100557
END:VEVENT
END:VCALENDAR
