BEGIN:VCALENDAR
METHOD:PUBLISH
X-WR-TIMEZONE:Europe/Berlin
PRODID:https://www.siwitermine.de
CALSCALE:GREGORIAN
VERSION:2.0
BEGIN:VTIMEZONE
TZID:Europe/Berlin
BEGIN:DAYLIGHT
TZOFFSETFROM:+0100
TZOFFSETTO:+0200
DTSTART:19810329T020000
RRULE:FREQ=YEARLY;BYMONTH=3;BYDAY=-1SU
TZNAME:CEST
END:DAYLIGHT
BEGIN:STANDARD
TZOFFSETFROM:+0200
TZOFFSETTO:+0100
DTSTART:19961027T030000
RRULE:FREQ=YEARLY;BYMONTH=10;BYDAY=-1SU
TZNAME:CET
END:STANDARD
END:VTIMEZONE
BEGIN:VEVENT
LOCATION:Hilchenbach | Marktplatz
SUMMARY:"itzend" - Akustik Duo: Oldies und RocknRoll und manches mehr  | 
DESCRIPTION:Hohe Spielfreude bei den Musikern und eine tolle Stimmung beim Publikum sind Programm. Oldies sowie erdige Klassiker und manches mehr sind das Markenzeichen der beiden Musiker. Authentisch und überzeugend bringen sie 100% handgemachte Musik zum Klingen. itzend" spielen und in einer Duo-Besetzung mit rein akustischen Instrumenten. Besetzung: Karl-Heinz Dentler - Gesang, akustische Gitarre / und als Gastmusiker dabei: Henner Busch - Schlagwerk, Gesang Motto: "let the good times roll" (Louis Jordan) | Info: 02733 288-0 | https://www.siwitermine.de/61830 
UID:siwitermine/61830/2025-12-13-2W  
CLASS:PUBLIC
DTSTART;TZID=Europe/Berlin:20251213T183000
DTEND;TZID=Europe/Berlin:20251213T183000
DTSTAMP:20251204T093137
END:VEVENT
END:VCALENDAR
