BEGIN:VCALENDAR
METHOD:PUBLISH
X-WR-TIMEZONE:Europe/Berlin
PRODID:https://www.siwitermine.de
CALSCALE:GREGORIAN
VERSION:2.0
BEGIN:VTIMEZONE
TZID:Europe/Berlin
BEGIN:DAYLIGHT
TZOFFSETFROM:+0100
TZOFFSETTO:+0200
DTSTART:19810329T020000
RRULE:FREQ=YEARLY;BYMONTH=3;BYDAY=-1SU
TZNAME:CEST
END:DAYLIGHT
BEGIN:STANDARD
TZOFFSETFROM:+0200
TZOFFSETTO:+0100
DTSTART:19961027T030000
RRULE:FREQ=YEARLY;BYMONTH=10;BYDAY=-1SU
TZNAME:CET
END:STANDARD
END:VTIMEZONE
BEGIN:VEVENT
LOCATION:Kulturhaus Lÿz | St.-Johann-Str. 18 | Siegen
SUMMARY:Helene Bockhorst | Lebefrau
DESCRIPTION:Schwarzer Humor trifft auf bunte Outfits und Albernheiten, wenn Helene Bockhorst sich den wirklich unbequemen Fragen stellt: Warum ist ein Mann, der es sich gut gehen lässt, ein Lebemann, eine Frau dagegen einfach nur eine Schlampe? Sollte man Familientraditionen unbedingt fortführen, auch wenn es sich um Depressionen und ungesunde Bewältigungsmuster handelt? Was kann ich für eine bessere Welt tun - ohne mir dabei allzu große Umstände zu machen? Und bin ich wenigstens einer der interessanteren Fälle für meine Therapeutin? Lebefrau ist das vierte abendfüllende Soloprogramm von Helene Bockhorst und eine Ode an das Leben. In ihrer offenen und ehrlichen Art nimmt sie das Publikum darin mit auf eine emotionale Achterbahnfahrt, in der humorvolle Alltagsbeobachtungen genauso ihren Platz finden wie lebensverändernde Erfahrungen. Zwischen den Zeilen geht es um die Frage, wie man sich auch in schwierigen Zeiten Leichtigkeit und Hoffnung bewahrt. Ein Programm über Trauma, Depression, Resilienz - und darüber, dass man immer einen Grund zum Lachen finden kann, auch wenn das Leben mal nicht so läuft, wie man es sich wünscht.  | Info: 0271/333-2448 | https://www.siwitermine.de/57745 
UID:siwitermine/57745/2025-12-11-2W  
CLASS:PUBLIC
DTSTART;TZID=Europe/Berlin:20251213T200000
DTEND;TZID=Europe/Berlin:20251213T200000
DTSTAMP:20250213T110257
END:VEVENT
END:VCALENDAR
