BEGIN:VCALENDAR
METHOD:PUBLISH
X-WR-TIMEZONE:Europe/Berlin
PRODID:https://www.siwitermine.de
CALSCALE:GREGORIAN
VERSION:2.0
BEGIN:VTIMEZONE
TZID:Europe/Berlin
BEGIN:DAYLIGHT
TZOFFSETFROM:+0100
TZOFFSETTO:+0200
DTSTART:19810329T020000
RRULE:FREQ=YEARLY;BYMONTH=3;BYDAY=-1SU
TZNAME:CEST
END:DAYLIGHT
BEGIN:STANDARD
TZOFFSETFROM:+0200
TZOFFSETTO:+0100
DTSTART:19961027T030000
RRULE:FREQ=YEARLY;BYMONTH=10;BYDAY=-1SU
TZNAME:CET
END:STANDARD
END:VTIMEZONE
BEGIN:VEVENT
LOCATION:Städtische Galerie Haus Seel | Kornmarkt 20 | Siegen
SUMMARY:"REDUKTION" | Eröffnung
DESCRIPTION:Begrüßung: Bürgermeister der Universitätsstadt Siegen Einführung: Dr. Jochen Fend, Sprecher Kunstkreis Siegerland In dieser Ausstellung zeigen wir Werke, die die verschiedenen Dimensionen der Reduktion erkunden. Vom spielerischen Umgang mit Form und Farbe bis hin zu geometrischen Kompositionen und abstrakter Reduktion - die Künstler laden dazu ein, die Schönheit des Unvollständigen zu erkennen. Jedes Werk ist wie ein Fenster, das einen Einblick in die Gedankenwelt des Schaffenden gewährt und gleichzeitig den Raum für eigene Assoziationen lässt. In einer Zeit voller visueller Überflutung kann die Reduktion als Befreiung empfunden werden. Sie ermutigt uns, konzentrierter hinzuschauen und das Wesentliche herauszufiltern. Die Werke in dieser Ausstellung laden dazu ein, diesen Prozess der Reduktion selbst zu erleben. Lassen Sie sich inspirieren, reflektieren Sie Ihre eigenen Empfindungen und entdecken Sie die Kraft der Einfachheit in der Kunst.  | Info: 0271 62062 | https://www.siwitermine.de/61906 
UID:siwitermine/61906/2025-12-11  
CLASS:PUBLIC
DTSTART;TZID=Europe/Berlin:20251211T190000
DTEND;TZID=Europe/Berlin:20251211T190000
DTSTAMP:20251212T091754
END:VEVENT
END:VCALENDAR
