BEGIN:VCALENDAR
METHOD:PUBLISH
X-WR-TIMEZONE:Europe/Berlin
PRODID:https://www.siwitermine.de
CALSCALE:GREGORIAN
VERSION:2.0
BEGIN:VTIMEZONE
TZID:Europe/Berlin
BEGIN:DAYLIGHT
TZOFFSETFROM:+0100
TZOFFSETTO:+0200
DTSTART:19810329T020000
RRULE:FREQ=YEARLY;BYMONTH=3;BYDAY=-1SU
TZNAME:CEST
END:DAYLIGHT
BEGIN:STANDARD
TZOFFSETFROM:+0200
TZOFFSETTO:+0100
DTSTART:19961027T030000
RRULE:FREQ=YEARLY;BYMONTH=10;BYDAY=-1SU
TZNAME:CET
END:STANDARD
END:VTIMEZONE
BEGIN:VEVENT
LOCATION:CineStar Siegen | Sandstr. 31 | Siegen
SUMMARY:Diese Woche im Cinestar Siegen | 
DESCRIPTION:Live aus der MET: Strauss Arabella / Heidi - Die Legende vom Luchs / Wicked: Teil 2 / Harry Potter und der Feuerkelch / The Birth of Kitaro: Das Geheimnis von GeGeGe / Das Leben der Wünsche / Die Unfassbaren 3 - Now You See Me / The Running Man / Dann passiert das Leben / Mission Santa - Ein Elf rettet Weihnachten / Mission: Mäusejagd - Chaos unterm Weihnachtsbaum / Predator: Badlands / Dracula - Die Auferstehung / No Hit Wonder / Pumuckl und das große Missverständnis / All das Ungesagte zwischen uns - Regretting You / Chainsaw Man - The Movie: Reze Arc / Amrum / Gabby's Dollhouse: Der Film / Momo / Die Schule der magischen Tiere 4 / Demon Slayer: Kimetsu no yaiba - Infinity Castle / Conjuring 4: Das letzte Kapitel / Die Gangster Gang 2 / Das Kanu des Manitu | Nicht jeder Film läuft an jedem Tag der Woche. Genaue Anfangszeiten finden Sie auf https://www.cinestar.de/kino-siegen.de  | Info: +49 (0)271 23638406 | https://www.siwitermine.de/61565 
UID:siwitermine/61565/2025-11-08-2W  
CLASS:PUBLIC
DTSTART;TZID=Europe/Berlin:20251114T000000
DTEND;TZID=Europe/Berlin:20251114T000000
DTSTAMP:20251117T115331
END:VEVENT
END:VCALENDAR
