BEGIN:VCALENDAR
METHOD:PUBLISH
X-WR-TIMEZONE:Europe/Berlin
PRODID:https://www.siwitermine.de
CALSCALE:GREGORIAN
VERSION:2.0
BEGIN:VTIMEZONE
TZID:Europe/Berlin
BEGIN:DAYLIGHT
TZOFFSETFROM:+0100
TZOFFSETTO:+0200
DTSTART:19810329T020000
RRULE:FREQ=YEARLY;BYMONTH=3;BYDAY=-1SU
TZNAME:CEST
END:DAYLIGHT
BEGIN:STANDARD
TZOFFSETFROM:+0200
TZOFFSETTO:+0100
DTSTART:19961027T030000
RRULE:FREQ=YEARLY;BYMONTH=10;BYDAY=-1SU
TZNAME:CET
END:STANDARD
END:VTIMEZONE
BEGIN:VEVENT
LOCATION:CineStar Siegen | Sandstr. 31 | Siegen
SUMMARY:Diese Woche im Cinestar Siegen | 
DESCRIPTION:Black Phone 2 / Chainsaw Man - The Movie: Reze Arc / Springsteen: Deliver Me from Nowhere / Das Leben der Wünsche - CineLady Preview / Harry Potter und der Gefangene von Askaban - CineSpecial / Herr der Ringe 2 - Die Zwei Türme (Ext.) - CineSpecial / Depeche Mode: M - CineSpecial / Live aus der MET: Puccini La Bohème / Zurück in die Zukunft - CineSpecial / Bone Lake / Dann passiert das Leben / Der Mann, der immer kleiner wurde / How to Make a Killing / Mission Santa - Ein Elf rettet Weihnachten / Mission: Mäusejagd - Chaos unterm Weihnachtsbaum / Predator: Badlands / Dracula - Die Auferstehung / Good Boy - Trust His Instincts / No Hit Wonder / Pumuckl und das große Missverständnis / All das Ungesagte zwischen uns - Regretting You / Gelin Takimi 2 / Alles voller Monster / Good Fortune - Ein ganz spezieller Schutzengel / SimsalaGrimm Mitmachkino / Amrum / Gabby's Dollhouse: Der Film / Tron: Ares / Bluey im Kino: Küchenspaß-Kollektion / Momo / Die Schule der magischen Tiere 4 / One Battle After Another / Demon Slayer: Kimetsu no yaiba - Infinity Castle / Conjuring 4: Das letzte Kapitel / Tafiti - Ab durch die Wüste / Die Gangster Gang 2 / Das Kanu des Manitu | Nicht jeder Film läuft an jedem Tag der Woche. Genaue Anfangszeiten finden Sie auf https://www.cinestar.de/kino-siegen.de  | Info: +49 (0)271 23638406 | https://www.siwitermine.de/61473 
UID:siwitermine/61473/2025-11-08-2W  
CLASS:PUBLIC
DTSTART;TZID=Europe/Berlin:20251112T000000
DTEND;TZID=Europe/Berlin:20251112T000000
DTSTAMP:20251106T083738
END:VEVENT
END:VCALENDAR
