BEGIN:VCALENDAR
METHOD:PUBLISH
X-WR-TIMEZONE:Europe/Berlin
PRODID:https://www.siwitermine.de
CALSCALE:GREGORIAN
VERSION:2.0
BEGIN:VTIMEZONE
TZID:Europe/Berlin
BEGIN:DAYLIGHT
TZOFFSETFROM:+0100
TZOFFSETTO:+0200
DTSTART:19810329T020000
RRULE:FREQ=YEARLY;BYMONTH=3;BYDAY=-1SU
TZNAME:CEST
END:DAYLIGHT
BEGIN:STANDARD
TZOFFSETFROM:+0200
TZOFFSETTO:+0100
DTSTART:19961027T030000
RRULE:FREQ=YEARLY;BYMONTH=10;BYDAY=-1SU
TZNAME:CET
END:STANDARD
END:VTIMEZONE
BEGIN:VEVENT
LOCATION:Ev. Erlöserkirche Siegen-Winchenbach | Lessingstr. 33
SUMMARY:"Im Schatten der Camorra" | Krimi-Lesung mit Micha Krämer
DESCRIPTION:Micha Krämer liest aus seinem neuen Westerwald-Neapel-Krimi »Im Schatten der Camorra«. Nina Morettis 16. Fall. Kriminalhauptkommissarin Nina Moretti ist mehr als nur besorgt. Die Nachricht aus Neapel verhieß nichts Gutes. Ihr Bruder Antonio liegt mit einer Schussverletzung im Koma. Von seiner Frau fehlt jede Spur. | Info: 0271/3510183 | https://www.siwitermine.de/61424 
UID:siwitermine/61424/2025-10-31-2W  
CLASS:PUBLIC
DTSTART;TZID=Europe/Berlin:20251108T193000
DTEND;TZID=Europe/Berlin:20251108T193000
DTSTAMP:20251031T101049
END:VEVENT
END:VCALENDAR
