BEGIN:VCALENDAR
METHOD:PUBLISH
X-WR-TIMEZONE:Europe/Berlin
PRODID:https://www.siwitermine.de
CALSCALE:GREGORIAN
VERSION:2.0
BEGIN:VTIMEZONE
TZID:Europe/Berlin
BEGIN:DAYLIGHT
TZOFFSETFROM:+0100
TZOFFSETTO:+0200
DTSTART:19810329T020000
RRULE:FREQ=YEARLY;BYMONTH=3;BYDAY=-1SU
TZNAME:CEST
END:DAYLIGHT
BEGIN:STANDARD
TZOFFSETFROM:+0200
TZOFFSETTO:+0100
DTSTART:19961027T030000
RRULE:FREQ=YEARLY;BYMONTH=10;BYDAY=-1SU
TZNAME:CET
END:STANDARD
END:VTIMEZONE
BEGIN:VEVENT
LOCATION:Kaufland Parkhaus | Marburger Straße 41 | Kreuztal
SUMMARY:Kreuztaler Trödelmarkt | Trödeln im wettergeschützten Parkhaus des Kaufland
DESCRIPTION:Im Parkhaus des Kreuztaler Kauflands lädt der Trödelmarkt zum wetterunabhängigen Stöbern und Feilschen ein. Von Trödel bis Neuwaren wird ein vielfältiges Angebot präsentiert. Dank der überdachten Location macht das Bummeln bei jedem Wetter Spaß. Ein fester Termin für alle Trödelfans in der Region.  | Info: 0160 1228423 | https://www.siwitermine.de/60801 
UID:siwitermine/60801/2025-10-31-2W  
CLASS:PUBLIC
DTSTART;TZID=Europe/Berlin:20251102T110000
DTEND;TZID=Europe/Berlin:20251102T110000
DTSTAMP:20250908T133315
END:VEVENT
END:VCALENDAR
