BEGIN:VCALENDAR
METHOD:PUBLISH
X-WR-TIMEZONE:Europe/Berlin
PRODID:https://www.siwitermine.de
CALSCALE:GREGORIAN
VERSION:2.0
BEGIN:VTIMEZONE
TZID:Europe/Berlin
BEGIN:DAYLIGHT
TZOFFSETFROM:+0100
TZOFFSETTO:+0200
DTSTART:19810329T020000
RRULE:FREQ=YEARLY;BYMONTH=3;BYDAY=-1SU
TZNAME:CEST
END:DAYLIGHT
BEGIN:STANDARD
TZOFFSETFROM:+0200
TZOFFSETTO:+0100
DTSTART:19961027T030000
RRULE:FREQ=YEARLY;BYMONTH=10;BYDAY=-1SU
TZNAME:CET
END:STANDARD
END:VTIMEZONE
BEGIN:VEVENT
LOCATION:City-Galerie Siegen
SUMMARY:Entdeckertour Kultur@SWF | Starke Dritte Orte & Allianzen für  Kultur im ländlichen Raum
DESCRIPTION:Die Entdeckertour Kultur@SWF richtet sich an alle, die einen kompakten Einblick in die Kulturprojekte der REGIONALE 2025 im Kreis Siegen-Wittgenstein gewinnen möchten. Im Mittelpunkt stehen zwei Kultur- und Begegnungsorte sowie das künstlerische Projekt WANDERSPACE der Universität Siegen. Teilnehmen können interessierte Bürger:innen, Engagierte aus Vereinen, kommunale Vertreter:innen aus den Bereichen Bildung, Engagement, Kultur, Regionalentwicklung und Soziales sowie Personen aus Politik und lokale Unternehmen, die an Kooperationen interessiert sind. Das sind die Stationen der Entdeckertour: Qulturwerkstatt Netphen - gewachsener Kulturâ und Begegnungsort mit starkem Ehrenamt. Kultureller Marktplatz Hilchenbach - "Dritter Ort" im Aufbau, getragen von Stadt & Bürgerschaft. Wanderspace, Universität Siegen - mobiles Atelier für künstlerische Interventionen im öffentlichen Raum. Die Entdeckertour wird moderiert und begleitet von Susanne Boecking (Kulturregion Südwestfalen) und Cynthia Krell (Projektmanagerin REGIONALE 2025, Südwestfalen Agentur GmbH). An der Entdeckertour können maximal 30 Personen teilnehmen. Teilnahme, Verpflegung und Transfer sind kostenfrei (individuelle An- und Abreise nach Siegen). Bitte melden Sie sich bis zum 10.â¯Oktoberâ¯2025 über an. Wir freuen uns auf Ihre Teilnahme! Haben Sie noch Fragen? Dann melden Sie sich gerne bei Cynthiaâ¯Krell (c.krell@suedwestfalen.com oder telefonisch unter: 0151-277 280 05). | Info: 02352/966-7066 | https://www.siwitermine.de/61184 
UID:siwitermine/61184/2025-10-26-1W  
CLASS:PUBLIC
DTSTART;TZID=Europe/Berlin:20251031T124500
DTEND;TZID=Europe/Berlin:20251031T124500
DTSTAMP:20251009T082546
END:VEVENT
END:VCALENDAR
