BEGIN:VCALENDAR
METHOD:PUBLISH
X-WR-TIMEZONE:Europe/Berlin
PRODID:https://www.siwitermine.de
CALSCALE:GREGORIAN
VERSION:2.0
BEGIN:VTIMEZONE
TZID:Europe/Berlin
BEGIN:DAYLIGHT
TZOFFSETFROM:+0100
TZOFFSETTO:+0200
DTSTART:19810329T020000
RRULE:FREQ=YEARLY;BYMONTH=3;BYDAY=-1SU
TZNAME:CEST
END:DAYLIGHT
BEGIN:STANDARD
TZOFFSETFROM:+0200
TZOFFSETTO:+0100
DTSTART:19961027T030000
RRULE:FREQ=YEARLY;BYMONTH=10;BYDAY=-1SU
TZNAME:CET
END:STANDARD
END:VTIMEZONE
BEGIN:VEVENT
LOCATION:Aula des Kulturhauses Lÿz Siegen | St. Johann-Str. 18
SUMMARY:Unverdiente Ungleichheit | Vortrag von Martyna Linartas
DESCRIPTION:und In kaum einem anderen westlichen Land ist Vermögen so ungleich verteilt wie in Deutsch- land. Und die Kluft zwischen Arm und Reich wächst alarmierend. Während der Anteil der armen Bevölkerung kontinuierlich ansteigt, verzeichnen die Vermögen von Milliardären selbst in Krisenzeiten ein unfassbares Wachstum. Deutschland ist eine Erbengesellschaft geworden, in der es nicht länger in erster Linie um Leistung geht. Die entscheidende Frage lautet: Arbeitest du noch oder erbst du schon? Diese Ungerechtigkeit ist eine Gefahr für den Zusammenhalt unserer Gesellschaft und für unsere Demokratie. Sie bedroht unser Alltagsleben und belastet unsere Zukunftsaufga- ben. Wir freuen uns, Dr. Martyna Berenika Linartas begrüßen zu dürfen, eine Expertin auf dem Ge- biet von Ungleichheit und Vermögensverteilung. Sie ist Politikwissenschaftlerin, Co-Gründerin und Projektleiterin von ungleichheit.info und lehrt u.a. an der Freien Universität Berlin. Im April 2025 erschien ihr Buch "Unverdiente Ungleichheit. Wie der Weg aus der Erbengesell- schaft gelingen kann" bei Rowohlt. In ihrem Vortrag wird sie unter anderem Per- spektiven aufzeigen, wie wir die Ungleichheit verringern können. | Info: . | https://www.siwitermine.de/61379 
UID:siwitermine/61379/2025-10-25-2W  
CLASS:PUBLIC
DTSTART;TZID=Europe/Berlin:20251029T190000
DTEND;TZID=Europe/Berlin:20251029T190000
DTSTAMP:20251028T121823
END:VEVENT
END:VCALENDAR
