BEGIN:VCALENDAR
METHOD:PUBLISH
X-WR-TIMEZONE:Europe/Berlin
PRODID:https://www.siwitermine.de
CALSCALE:GREGORIAN
VERSION:2.0
BEGIN:VTIMEZONE
TZID:Europe/Berlin
BEGIN:DAYLIGHT
TZOFFSETFROM:+0100
TZOFFSETTO:+0200
DTSTART:19810329T020000
RRULE:FREQ=YEARLY;BYMONTH=3;BYDAY=-1SU
TZNAME:CEST
END:DAYLIGHT
BEGIN:STANDARD
TZOFFSETFROM:+0200
TZOFFSETTO:+0100
DTSTART:19961027T030000
RRULE:FREQ=YEARLY;BYMONTH=10;BYDAY=-1SU
TZNAME:CET
END:STANDARD
END:VTIMEZONE
BEGIN:VEVENT
LOCATION:US-C 116 | Campus Unteres Schloss (Schloßplatz) | Hörsaalzentrum am Unteren Schlos
SUMMARY:Israelis und Palästinenser im Dialog. Für eine friedvolle Koexistenz im Heiligen Land | Vortrag und Diskussion mit Prof. Dr. Fania Oz-Salzberger und Jules El-Khatib
DESCRIPTION:Die Gesellschaft für Christlich-Jüdische Zusammenarbeit Siegerland und die Universität Siegen laden zu zwei öffentlichen Podiumsdiskussionen zum israelisch-palästinensischen Konflikt ein. Referent:innen sind die Historikerin Fania Oz-Salzberger und der Aktivist Jules El-Khatib. Frau Oz-Salzberger ist israelische Schriftstellerin und Intellektuelle sowie emeritierte Professorin für Geschichte an der Juristischen Fakultät der Universität Haifa. Sie ist die älteste Tochter des 2018 verstorbenen Schriftstellers Amos Oz. Sie erhielt 2021 das Bundesverdienstkreuz und 2020 die Ehrendoktorwürde der Universität Uppsala. Sie ist in der israelischen Pro-Demokratie- Protestbewegung aktiv und setzt sich seit dem 7. Oktober 2023 für die liberale und gemäßigte Bewegung in Israel ein. Herr El-Khatib wurde in Deutschland geboren. Seine Familie väterlicherseits stammt aus Palästina. Er lehrt als Dozent an einer privaten Hochschule Sozialwissenschaft und ist als Autor zum Nahostkonflikt tätig. Er ist seit 2025 einer der Vizepräsidenten der Deutsch-Palästinensischen Gesellschaft e. V. Seit seiner Jugend engagiert er sich für Menschenrechte und ein Ende der israelischen Besatzungspolitik. In den Vorankündigungen wurde als Referent Herr Ahmed Fouad Alkhatib angekündigt, der aus Gaza stammt und seit 2005 in den USA lebt. Herr Alkhatib hat kurzfristig abgesagt, da er sich mit seinen politischen Verbindungen sehr für die zweite Phase des Friedensplanes in Washington einsetzt, in der Hoffnung auf eine bessere Zukunft in Gaza. Beide Referent:innen kennen sich und kennen ihre Positionen. Es gibt Übereinstimmungen und Unterschiede. Sie tragen ihre Statements vor und treten dann in einen moderierten Dialog ein. Es gibt Raum für Fragen der Zuhörer:innen. Die Beiträge der Referent:innen und das anschließende Podiumsgespräch finden in englischer Sprache statt. | Info: 0271 20100 | https://www.siwitermine.de/61375 
UID:siwitermine/61375/2025-10-25-2W  
CLASS:PUBLIC
DTSTART;TZID=Europe/Berlin:20251104T190000
DTEND;TZID=Europe/Berlin:20251104T190000
DTSTAMP:20251029T082313
END:VEVENT
END:VCALENDAR
