BEGIN:VCALENDAR
METHOD:PUBLISH
X-WR-TIMEZONE:Europe/Berlin
PRODID:https://www.siwitermine.de
CALSCALE:GREGORIAN
VERSION:2.0
BEGIN:VTIMEZONE
TZID:Europe/Berlin
BEGIN:DAYLIGHT
TZOFFSETFROM:+0100
TZOFFSETTO:+0200
DTSTART:19810329T020000
RRULE:FREQ=YEARLY;BYMONTH=3;BYDAY=-1SU
TZNAME:CEST
END:DAYLIGHT
BEGIN:STANDARD
TZOFFSETFROM:+0200
TZOFFSETTO:+0100
DTSTART:19961027T030000
RRULE:FREQ=YEARLY;BYMONTH=10;BYDAY=-1SU
TZNAME:CET
END:STANDARD
END:VTIMEZONE
BEGIN:VEVENT
LOCATION:Museum Wilnsdorf | Rathausstr. 9 | Wilnsdorf
SUMMARY:Bettina Lausen: Die Fotografin - Neue Zeiten auf der Kö | 
DESCRIPTION:Zwischen Blitzlicht und Vergangenheit: Eine mutige Frau will Modefotografin werden und muss gleichzeitig gegen die Dämonen ihrer Vergangenheit kämpfen. Düsseldorf 1953: Die 26-jährige Jüdin Zuria lebt in London und ist mit einem Modehausbesitzer verlobt, als ein Brief ihr Leben auf den Kopf stellt: Ihre totgeglaubte Schwester Jalda lebt. Trotz aller Ängste kehrt Zuria in ihre alte Heimat Düsseldorf zurück, um Jalda nach London zu holen. Doch diese hat sich in Deutschland ein Leben als Mannequin aufgebaut und träumt von einer Karriere als Fotomodell. Zuria ersehnt sich, Modefotografin zu werden. Als sie auf ihre Jugendliebe Kurt trifft, steht Zuria vor der Wahl zwischen Sicherheit und Wohlstand in London und einem Neubeginn mit der Chance, ihre wahren Träume zu leben. | Info: 02739/802-200 | https://www.siwitermine.de/61329 
UID:siwitermine/61329/2025-10-25-2W  
CLASS:PUBLIC
DTSTART;TZID=Europe/Berlin:20251106T193000
DTEND;TZID=Europe/Berlin:20251106T193000
DTSTAMP:20251020T140210
END:VEVENT
END:VCALENDAR
