BEGIN:VCALENDAR
METHOD:PUBLISH
X-WR-TIMEZONE:Europe/Berlin
PRODID:https://www.siwitermine.de
CALSCALE:GREGORIAN
VERSION:2.0
BEGIN:VTIMEZONE
TZID:Europe/Berlin
BEGIN:DAYLIGHT
TZOFFSETFROM:+0100
TZOFFSETTO:+0200
DTSTART:19810329T020000
RRULE:FREQ=YEARLY;BYMONTH=3;BYDAY=-1SU
TZNAME:CEST
END:DAYLIGHT
BEGIN:STANDARD
TZOFFSETFROM:+0200
TZOFFSETTO:+0100
DTSTART:19961027T030000
RRULE:FREQ=YEARLY;BYMONTH=10;BYDAY=-1SU
TZNAME:CET
END:STANDARD
END:VTIMEZONE
BEGIN:VEVENT
LOCATION:Stadtbibliothek Siegen | Markt 25
SUMMARY:Geschichten vom Teilen in der Stadtbibliothek! | Vorlesestunde für Kinder ab 6 Jahren
DESCRIPTION:Mit großen Augen einer Geschichte lauschen und gleich in eine andere Welt eintauchen, dazu lädt die nächste Vorlesestunde Kinder ab sechs Jahren ein. Dieses Mal stehen Geschichten rund um das Thema "Teilen" im Mittelpunkt und zeigen, wie schön es ist, füreinander da zu sein. Die Mitarbeiterinnen und Mitarbeiter der Stadtbibliothek lesen Geschichten vor, die an die Tradition des Sankt Martinsfestes erinnern und die Bedeutung von Nächstenliebe und Gemeinschaft kindgerecht vermitteln sollen. Im Anschluss wird gemeinsam gemalt oder gebastelt. Der Eintritt ist frei, eine Anmeldung ist nicht erforderlich. Gruppen ab sechs Kindern sollten sich jedoch vorher unter der Telefonnummer (0271) 404-3025 oder per E-Mail an stadtbibliothek@siegen.de anmelden. | Info: 0271 404-3011 | https://www.siwitermine.de/61174 
UID:siwitermine/61174/2025-10-25-2W  
CLASS:PUBLIC
DTSTART;TZID=Europe/Berlin:20251106T160000
DTEND;TZID=Europe/Berlin:20251106T160000
DTSTAMP:20251008T151842
END:VEVENT
END:VCALENDAR
