BEGIN:VCALENDAR
METHOD:PUBLISH
X-WR-TIMEZONE:Europe/Berlin
PRODID:https://www.siwitermine.de
CALSCALE:GREGORIAN
VERSION:2.0
BEGIN:VTIMEZONE
TZID:Europe/Berlin
BEGIN:DAYLIGHT
TZOFFSETFROM:+0100
TZOFFSETTO:+0200
DTSTART:19810329T020000
RRULE:FREQ=YEARLY;BYMONTH=3;BYDAY=-1SU
TZNAME:CEST
END:DAYLIGHT
BEGIN:STANDARD
TZOFFSETFROM:+0200
TZOFFSETTO:+0100
DTSTART:19961027T030000
RRULE:FREQ=YEARLY;BYMONTH=10;BYDAY=-1SU
TZNAME:CET
END:STANDARD
END:VTIMEZONE
BEGIN:VEVENT
LOCATION:Kulturhaus Lÿz | St.-Johann-Str. 18 | Siegen
SUMMARY:Verschoben auf Termin noch offen: Katrin Göring-Eckardt | Deutschland lass uns reden
DESCRIPTION:Lesung, Vortrag & Gespräch: Eine Reise durch die Seele der Republik | Wärmepumpen und Gendern; Geflüchtete und alte weiße Männer; Kriegstreiber und Pazifisten, Schwurbler und die Woke-Kultur: Feindbilder prägen die Debatten. Woher kommt die Angst? Woher die Wut? Sind wir am Ende der Gemeinsamkeiten oder können wir noch diskutieren, zuhören, andere ausreden lassen, auch wenn wir ihnen nicht zustimmen? Katrin Göring-Eckardt will das herausfinden. Sie begegnet auf ihrer Reise durch Deutschland unterschiedlichen Menschen - solchen, die zufrieden sind, aber auch solchen, die enttäuscht sind, sich benachteiligt fühlen und Veränderungen als Zumutung begreifen. Gibt es trotz aller Meinungsverschiedenheiten noch Dinge, auf die wir uns einigen können? Dazu müssen wir einander erst einmal verstehen - und einsehen, dass andere auch recht haben können. | Info: 0271 / 38750662 | https://www.siwitermine.de/60546 
UID:siwitermine/60546/2025-10-25-1W  
CLASS:PUBLIC
DTSTART;TZID=Europe/Berlin:20251030T190000
DTEND;TZID=Europe/Berlin:20251030T190000
DTSTAMP:20250811T130030
END:VEVENT
END:VCALENDAR
