BEGIN:VCALENDAR
METHOD:PUBLISH
X-WR-TIMEZONE:Europe/Berlin
PRODID:https://www.siwitermine.de
CALSCALE:GREGORIAN
VERSION:2.0
BEGIN:VTIMEZONE
TZID:Europe/Berlin
BEGIN:DAYLIGHT
TZOFFSETFROM:+0100
TZOFFSETTO:+0200
DTSTART:19810329T020000
RRULE:FREQ=YEARLY;BYMONTH=3;BYDAY=-1SU
TZNAME:CEST
END:DAYLIGHT
BEGIN:STANDARD
TZOFFSETFROM:+0200
TZOFFSETTO:+0100
DTSTART:19961027T030000
RRULE:FREQ=YEARLY;BYMONTH=10;BYDAY=-1SU
TZNAME:CET
END:STANDARD
END:VTIMEZONE
BEGIN:VEVENT
LOCATION:Evangelische Stadtkirche | Schlossstraße 18 | Bad Berleburg
SUMMARY:32. Berleburger literaturpflaster - Philippinen | Menschenwürde und Kirche - Vortrag von  Prof. Dr. Dennis Solon
DESCRIPTION: Die Wertschätzung der Menschenwürde zeigt sich in den kulturellen Werten von bayanihan und utang na loob im philippinischen Kontext. Trotzdem ist es ein Land, in dem Angriffe auf die Menschenwürde in verschiedenen Formen fast zur Tagesordnung gehören. Angesichts eines solchen sozialen Problems reflektiert Dennis Solon, ordinierter Pfarrer der Vereinigten Kirche Christi in den Philippinen (UCCP) und Gastprofessor am Institut für Diakoniewissenschaft und Diakonie Management (IDWM) der Universität Bielefeld, über die aktive Rolle der Kirche mit Hilfe von Kulturstudien und soziologischer Deutung biblischer Texte. Eine Kooperation mit der Erwachsenenbildung im Ev. Kirchenkreis Siegen-Wittgenstein (Regionalstelle Ev. Erwachsenen- und Familienbildung Westfalen und Lippe e.V.) und der Ev. Kirchengemeinde Bad Berleburg. Der Eintritt ist frei | Info: +49 (0)2751 923232 | https://www.siwitermine.de/60341 
UID:siwitermine/60341/2025-10-25-1W  
CLASS:PUBLIC
DTSTART;TZID=Europe/Berlin:20251029T193000
DTEND;TZID=Europe/Berlin:20251029T193000
DTSTAMP:20250730T100528
END:VEVENT
END:VCALENDAR
