BEGIN:VCALENDAR
METHOD:PUBLISH
X-WR-TIMEZONE:Europe/Berlin
PRODID:https://www.siwitermine.de
CALSCALE:GREGORIAN
VERSION:2.0
BEGIN:VTIMEZONE
TZID:Europe/Berlin
BEGIN:DAYLIGHT
TZOFFSETFROM:+0100
TZOFFSETTO:+0200
DTSTART:19810329T020000
RRULE:FREQ=YEARLY;BYMONTH=3;BYDAY=-1SU
TZNAME:CEST
END:DAYLIGHT
BEGIN:STANDARD
TZOFFSETFROM:+0200
TZOFFSETTO:+0100
DTSTART:19961027T030000
RRULE:FREQ=YEARLY;BYMONTH=10;BYDAY=-1SU
TZNAME:CET
END:STANDARD
END:VTIMEZONE
BEGIN:VEVENT
LOCATION:vhs Siegen KrönchenCenter | Markt 25 | 57072 Siegen
SUMMARY:"Das Schöne an Jahreszeiten Ach, schon Herbst!" | Lyrik- und Gesprächsrunde
DESCRIPTION:Die Volkshochschule Siegen-Wittgenstein veranstaltet eine Lyrik- und Gesprächsrunde unter dem Titel "Das Schöne an Jahreszeiten Ach, schon Herbst!". Der Siegener Malerdichter Olaf Neopan Schwanke führt die Teilnehmer durch einen literarischen Rundgang zu den Jahreszeiten Frühling, Sommer, Herbst und Winter. Dabei werden Werke von Erich Kästner, Mascha Kaléko, Gottfried Benn und Joseph von Eichendorff vorgestellt, die sich mit Themen wie Abschied, Verhängnis und Melancholie befassen und das Leben in all seinen Facetten feiern. Die Veranstaltung findet in Zusammenarbeit mit der Buchhandlung "bücher by eva" am Markt 5 statt. Die Teilnahmegebühr beträgt 7 Euro. Interessierte sind eingeladen, ein Lieblingsgedicht zu einer Jahreszeit mitzubringen, das Teil der Lesung werden kann. | Info: 0271/404-3000 | https://www.siwitermine.de/61411 
UID:siwitermine/61411/2025-10-24-2W  
CLASS:PUBLIC
DTSTART;TZID=Europe/Berlin:20251031T190000
DTEND;TZID=Europe/Berlin:20251031T190000
DTSTAMP:20251029T091403
END:VEVENT
END:VCALENDAR
