BEGIN:VCALENDAR
METHOD:PUBLISH
X-WR-TIMEZONE:Europe/Berlin
PRODID:https://www.siwitermine.de
CALSCALE:GREGORIAN
VERSION:2.0
BEGIN:VTIMEZONE
TZID:Europe/Berlin
BEGIN:DAYLIGHT
TZOFFSETFROM:+0100
TZOFFSETTO:+0200
DTSTART:19810329T020000
RRULE:FREQ=YEARLY;BYMONTH=3;BYDAY=-1SU
TZNAME:CEST
END:DAYLIGHT
BEGIN:STANDARD
TZOFFSETFROM:+0200
TZOFFSETTO:+0100
DTSTART:19961027T030000
RRULE:FREQ=YEARLY;BYMONTH=10;BYDAY=-1SU
TZNAME:CET
END:STANDARD
END:VTIMEZONE
BEGIN:VEVENT
LOCATION:Viktoria Filmtheater Hilchenbach-Dahlbruch | Bernhard-Weiss-Platz 6
SUMMARY:Die Ironie des Lebens | 
DESCRIPTION:(D 2024, 109 Minuten, ab 12) Der erfolgreiche Kabarettist Edgar (Uwe Ochsenknecht) macht sich, obwohl selbst nicht mehr der Jüngste, in seinen Bühnenshows gerne über das Älterwerden lustig: über gescheiterte Ehen, nachlassende Libido, die sich rapide verschlechternde Gesundheit und den nahenden Tod. Eines Abends sitzt nach 25 Jahren Funkstille plötzlich seine Ex-Frau Eva (Corinna Harfouch) im Publikum. Nach der Show eröffnet sie ihm, dass sie unheilbar an Krebs erkrankt ist und sich nicht dagegen behandeln lassen will. Gegen jede Wahrscheinlichkeit beginnen sich die beiden wieder anzunähern und Eva entscheidet sich, Edgar auf seiner Tournee durch Deutschland zu begleiten. Die unterhaltsame Tragikomödie zeichnet sich durch "ein raffiniertes Drehbuch, zwei herausragende Charakterdarstellende in den Hauptrollen und eine bittersüße, tragikomische Geschichte aus." (FBW) Eine Veranstaltung in Zusammenarbeit mit dem Netzwerk Hospiz- und Palliativarbeit Siegen-Wittgenstein. | Info: 02733 61467 | https://www.siwitermine.de/61352 
UID:siwitermine/61352/2025-10-24-2W  
CLASS:PUBLIC
DTSTART;TZID=Europe/Berlin:20251028T190000
DTEND;TZID=Europe/Berlin:20251028T190000
DTSTAMP:20251021T124553
END:VEVENT
END:VCALENDAR
