BEGIN:VCALENDAR
METHOD:PUBLISH
X-WR-TIMEZONE:Europe/Berlin
PRODID:https://www.siwitermine.de
CALSCALE:GREGORIAN
VERSION:2.0
BEGIN:VTIMEZONE
TZID:Europe/Berlin
BEGIN:DAYLIGHT
TZOFFSETFROM:+0100
TZOFFSETTO:+0200
DTSTART:19810329T020000
RRULE:FREQ=YEARLY;BYMONTH=3;BYDAY=-1SU
TZNAME:CEST
END:DAYLIGHT
BEGIN:STANDARD
TZOFFSETFROM:+0200
TZOFFSETTO:+0100
DTSTART:19961027T030000
RRULE:FREQ=YEARLY;BYMONTH=10;BYDAY=-1SU
TZNAME:CET
END:STANDARD
END:VTIMEZONE
BEGIN:VEVENT
LOCATION:KrönchenCenter | Markt 25 | Siegen
SUMMARY:Berühmte Freundinnen der Literatur | Literaturbegegnungen mit Dr. Marlies Obier
DESCRIPTION:26.09.2025 bis 22.11.2025 | Mo.-Fr.: 9-19 Uhr, Sa.: 10-13 Uhr | "Die Zeiten sind lausig und wir sollten näher beieinander sein. Die täglichen Nachrichten sind so, als ob man jeden Tag eins auf den Kopf bekommt", schrieb Hannah Arendt von New York nach Paris an ihre Freundin Mary McCarthy. Ihre Freundschaft war ein hoher und unverzichtbarer Wert im Leben und bedeutete Vertrauen, Sicherheit und Solidarität. Die Ausstellung erzählt von den Freundschaften berühmter Schriftstellerinnen aus verschiedenen geschichtlichen Zeiten. Keine der Zeiten war einfach zu leben, im Gegenteil sogar. Die Frauen brauchten ihren ganzen Mut - und ihre Freundinnen! Virginia Woolf und Vita Sackville-West, Gertrude Stein und Alice B. Toklas, Bettine Brentano und Karoline von Günderode, Colette und Natalie Clifford Barney, Djuna Barnes und Thelma Wood, Erika Mann und Therese Giehse, Hannah Arendt und Mary McCarthy - jede der Frauen stellte sich der Herausforderung ihrer Zeit. Die Ausstellung von Dr. Marlies Obier im KrönchenCenter Siegen wird von ihren Vorträgen in der Café-Literatur-Zeit begleitet, die die Begegnungen mit den berühmten Schriftstellerinnen vertiefen.  | Info: 02714043000 | https://www.siwitermine.de/60897 
UID:siwitermine/60897/2025-10-24-2W  
CLASS:PUBLIC
DTSTART;TZID=Europe/Berlin:20251024T000000Z
DTEND;TZID=Europe/Berlin:20251024T000000Z
DTSTAMP:20250912T080213
END:VEVENT
END:VCALENDAR
