BEGIN:VCALENDAR
METHOD:PUBLISH
X-WR-TIMEZONE:Europe/Berlin
PRODID:https://www.siwitermine.de
CALSCALE:GREGORIAN
VERSION:2.0
BEGIN:VTIMEZONE
TZID:Europe/Berlin
BEGIN:DAYLIGHT
TZOFFSETFROM:+0100
TZOFFSETTO:+0200
DTSTART:19810329T020000
RRULE:FREQ=YEARLY;BYMONTH=3;BYDAY=-1SU
TZNAME:CEST
END:DAYLIGHT
BEGIN:STANDARD
TZOFFSETFROM:+0200
TZOFFSETTO:+0100
DTSTART:19961027T030000
RRULE:FREQ=YEARLY;BYMONTH=10;BYDAY=-1SU
TZNAME:CET
END:STANDARD
END:VTIMEZONE
BEGIN:VEVENT
LOCATION:Apollo-Theater | Morleystraße 1 | Siegen
SUMMARY:Das Beste aus zwei Welten. Ein Siegen-Wittgenstein-Musical | Dieter Falk, Paul Falk, Hans Holzbecher
DESCRIPTION:Mit großem Erfolg ist das Musical Das Beste aus zwei Welten an den Start gegangen. Die Uraufführung begeisterte Publikum und Presse gleichermaßen - ein mitreißender Abend voller Musik, Emotionen und einer spürbaren Liebe zur Region. Anlässlich des 50-jährigen Jubiläums des Zusammenschlusses der Kreise Siegen und Wittgenstein haben der Komponist, Musiker und Produzent Dieter Falk und sein Sohn Paul Falk ein musikalisches Highlight geschaffen. Die Texte stammen von Hans Holzbecher, bekannt u.R39;a. für seine Arbeit am Düsseldorfer Kommödchen. Fünf herausragende Solist:innen erzählen in mitreißenden Songs und lebendigen Dialogen von den einzigartigen Traditionen, regionalen Geschichten und weltweiten Erfolgen sowohl der Siegerländer:innen als auch der Wittgensteiner:innen. Musikalisch schlagen Dieter und Paul Falk eine beeindruckende Brücke zwischen den Genres - von Rap über Rock, Pop und Schlager bis hin zu klassischen Klängen und kraftvollem Chorgesang. Typisch Falk: Das Musical steckt voller eingängiger Melodien und echter Ohrwürmer, die noch lange im Gedächtnis bleiben. Ein musikalisches Erlebnis, das den Geist der Region einfängt und das Herz von Musicalfans höherschlagen lässt. | Info: +49 (0)271 77027720 | https://www.siwitermine.de/60374 
UID:siwitermine/60374/2025-10-24-2W  
CLASS:PUBLIC
DTSTART;TZID=Europe/Berlin:20251029T193000
DTEND;TZID=Europe/Berlin:20251029T193000
DTSTAMP:20250801T134445
END:VEVENT
END:VCALENDAR
