BEGIN:VCALENDAR
METHOD:PUBLISH
X-WR-TIMEZONE:Europe/Berlin
PRODID:https://www.siwitermine.de
CALSCALE:GREGORIAN
VERSION:2.0
BEGIN:VTIMEZONE
TZID:Europe/Berlin
BEGIN:DAYLIGHT
TZOFFSETFROM:+0100
TZOFFSETTO:+0200
DTSTART:19810329T020000
RRULE:FREQ=YEARLY;BYMONTH=3;BYDAY=-1SU
TZNAME:CEST
END:DAYLIGHT
BEGIN:STANDARD
TZOFFSETFROM:+0200
TZOFFSETTO:+0100
DTSTART:19961027T030000
RRULE:FREQ=YEARLY;BYMONTH=10;BYDAY=-1SU
TZNAME:CET
END:STANDARD
END:VTIMEZONE
BEGIN:VEVENT
LOCATION:Gelbe Villa in Dreslers Park Kreuztal
SUMMARY:Ausstellung der Kunstsammlung | 
DESCRIPTION:In der Gelben Villa in Dreslers Park können Besucher Gemälde des Siegerländer Künstlers Adolf Saenger, zeitgenössische Kunstwerke von Annette Besgen, Sabine Helsper-Müller, Jürgen Königs, Eberhard Stroot und weiteren Kreuztaler Kunstschaffenden sowie fotografische Arbeiten besichtigen. Auch die Kuhmichel-Sammlung, die einige Neuzugänge umfasst, wird präsentiert. | Info: +49 (0)2732 51-324 | https://www.siwitermine.de/61426 
UID:siwitermine/61426/2025-10-21-2W  
CLASS:PUBLIC
DTSTART;TZID=Europe/Berlin:20251102T140000
DTEND;TZID=Europe/Berlin:20251102T140000
DTSTAMP:20251031T105546
END:VEVENT
END:VCALENDAR
