BEGIN:VCALENDAR
METHOD:PUBLISH
X-WR-TIMEZONE:Europe/Berlin
PRODID:https://www.siwitermine.de
CALSCALE:GREGORIAN
VERSION:2.0
BEGIN:VTIMEZONE
TZID:Europe/Berlin
BEGIN:DAYLIGHT
TZOFFSETFROM:+0100
TZOFFSETTO:+0200
DTSTART:19810329T020000
RRULE:FREQ=YEARLY;BYMONTH=3;BYDAY=-1SU
TZNAME:CEST
END:DAYLIGHT
BEGIN:STANDARD
TZOFFSETFROM:+0200
TZOFFSETTO:+0100
DTSTART:19961027T030000
RRULE:FREQ=YEARLY;BYMONTH=10;BYDAY=-1SU
TZNAME:CET
END:STANDARD
END:VTIMEZONE
BEGIN:VEVENT
LOCATION:Leonhard-Gläser-Saal | Siegerlandhalle | Koblenzer Str. 151 | Siegen
SUMMARY:Über alle Berge | Herbstkonzert
DESCRIPTION:Das Herbstkonzert steht in diesem Jahr unter dem Motto "Über alle Berge". Das Orchester unter der Leitung von Daniel Ridder möchte sein Publikum wieder mit einem abwechslungsreichen und anspruchsvollen Programm erfreuen. Ein Höhepunkt des Programms ist "Red Rock Mountain". Diese Komposition zeichnet ein wunderschönes musikalisches Bild vom Red Rock Mountain im Gebiet westlich von Las Vegas, einem Drehort für zahlreiche Western. Mit "Musical Moments" möchte das Siegener Blasorchester Melodien aus "Phantom der Oper", "Elisabeth" und Frozen" präsentieren. Als besonderes Highlight des Konzerts konnte dazu die Sopranistin Florentine Schumacher engagiert werden. Sie ist in Eichelhardt im Westerwald aufgewachsen und studierte Gesang an der Hochschule für Musik und Darstellende Kunst in Frankfurt. Die Musiker des Siegener Blasorchester und das Publikum können sich zudem auf die Musikvorträge des Jugendorchesters der Fritz-Busch-Musikschule Siegen freuen. | Info: +49 (0) 271 3131144 | https://www.siwitermine.de/61423 
UID:siwitermine/61423/2025-10-21-2W  
CLASS:PUBLIC
DTSTART;TZID=Europe/Berlin:20251102T160000
DTEND;TZID=Europe/Berlin:20251102T160000
DTSTAMP:20251031T093201
END:VEVENT
END:VCALENDAR
