BEGIN:VCALENDAR
METHOD:PUBLISH
X-WR-TIMEZONE:Europe/Berlin
PRODID:https://www.siwitermine.de
CALSCALE:GREGORIAN
VERSION:2.0
BEGIN:VTIMEZONE
TZID:Europe/Berlin
BEGIN:DAYLIGHT
TZOFFSETFROM:+0100
TZOFFSETTO:+0200
DTSTART:19810329T020000
RRULE:FREQ=YEARLY;BYMONTH=3;BYDAY=-1SU
TZNAME:CEST
END:DAYLIGHT
BEGIN:STANDARD
TZOFFSETFROM:+0200
TZOFFSETTO:+0100
DTSTART:19961027T030000
RRULE:FREQ=YEARLY;BYMONTH=10;BYDAY=-1SU
TZNAME:CET
END:STANDARD
END:VTIMEZONE
BEGIN:VEVENT
LOCATION:Otto-Reiffenrath-Haus | Bahnhofstr. 1 | Neunkirchen
SUMMARY:Die Wunderkasten | Kindertheater mit Petra Schuff
DESCRIPTION:Humorvoll und mit einem FuÌnkchen Schalk und manchen kleinen Weisheiten. Erzählt und gespielt von Petra Schuff mit Figuren und Objekten und Ulrich van der Schoor mit wunderschönen landestypischen Klängen. So duÌrfen neben Puppen auch eine Gurke und ein Fischdose auftreten. FuÌnf kleine TheaterstuÌcke Sie handeln von Menschen und Tieren, von Freiheit , GluÌck und Habgier, und vor allem von der wunderbaren Kraft der Liebe und der Gemeinschaft. | Info: 02735 767409 | https://www.siwitermine.de/61414 
UID:siwitermine/61414/2025-10-21-2W  
CLASS:PUBLIC
DTSTART;TZID=Europe/Berlin:20251103T150000
DTEND;TZID=Europe/Berlin:20251103T150000
DTSTAMP:20251030T081905
END:VEVENT
END:VCALENDAR
