BEGIN:VCALENDAR
METHOD:PUBLISH
X-WR-TIMEZONE:Europe/Berlin
PRODID:https://www.siwitermine.de
CALSCALE:GREGORIAN
VERSION:2.0
BEGIN:VTIMEZONE
TZID:Europe/Berlin
BEGIN:DAYLIGHT
TZOFFSETFROM:+0100
TZOFFSETTO:+0200
DTSTART:19810329T020000
RRULE:FREQ=YEARLY;BYMONTH=3;BYDAY=-1SU
TZNAME:CEST
END:DAYLIGHT
BEGIN:STANDARD
TZOFFSETFROM:+0200
TZOFFSETTO:+0100
DTSTART:19961027T030000
RRULE:FREQ=YEARLY;BYMONTH=10;BYDAY=-1SU
TZNAME:CET
END:STANDARD
END:VTIMEZONE
BEGIN:VEVENT
LOCATION:CineStar Siegen | Sandstr. 31 | Siegen
SUMMARY:Diese Woche im Cinestar Siegen | 
DESCRIPTION:Dracula - Die Auferstehung / All das Ungesagte zwischen uns - Regretting You / Black Phone 2 / Chainsaw Man - The Movie: Reze Arc / Springsteen: Deliver Me from Nowhere / Zurück in die Zukunft - CineSpecial / Das Schweigen der Lämmer - Best of Cinema / Harry Potter und die Kammer des Schreckens - CineSpecial / Diés Iraé (Malayalam OmeU) / The Rocky Horror Picture Show (OV) - CineSpecial / Testament (bosn. OmU) / Herr der Ringe 1 - Die Gefährten (Ext.) - CineSpecial / Halloween 2 - Das Grauen kehrt zurück (4K) - CineSpecial / 50 Jahre Roland Kaiser - Ein Leben für die Musik - CineSpecial / Halloween - Die Nacht des Grauens (4K) - CineSpecial / KPop Demon Hunters - A Sing-Along Event - CineSpecial / Dracula - Die Auferstehung / Good Boy - Trust His Instincts / Miau & Wau / No Hit Wonder / Pumuckl und das große Missverständnis / Depeche Mode: M - CineSpecial / Ziemlich beste Freunde - CineMoments / Gelin Takimi 2 / After the Hunt / Alles voller Monster / Good Fortune - Ein ganz spezieller Schutzengel / Good Fortune - Ein ganz spezieller Schutzengel / SimsalaGrimm Mitmachkino / Amrum / Gabby's Dollhouse: Der Film / Tron: Ares / Bluey im Kino: Küchenspaß-Kollektion / Momo / Die Schule der magischen Tiere 4 / One Battle After Another / Demon Slayer: Kimetsu no yaiba - Infinity Castle / Downton Abbey: Das große Finale / The Long Walk - Todesmarsch / Conjuring 4: Das letzte Kapitel / Tafiti - Ab durch die Wüste / Die Gangster Gang 2 / Das Kanu des Manitu | Nicht jeder Film läuft an jedem Tag der Woche. Genaue Anfangszeiten finden Sie auf https://www.cinestar.de/kino-siegen.de  | Info: +49 (0)271 23638406 | https://www.siwitermine.de/61409 
UID:siwitermine/61409/2025-10-21-2W  
CLASS:PUBLIC
DTSTART;TZID=Europe/Berlin:20251029T000000
DTEND;TZID=Europe/Berlin:20251029T000000
DTSTAMP:20251029T085320
END:VEVENT
END:VCALENDAR
