BEGIN:VCALENDAR
METHOD:PUBLISH
X-WR-TIMEZONE:Europe/Berlin
PRODID:https://www.siwitermine.de
CALSCALE:GREGORIAN
VERSION:2.0
BEGIN:VTIMEZONE
TZID:Europe/Berlin
BEGIN:DAYLIGHT
TZOFFSETFROM:+0100
TZOFFSETTO:+0200
DTSTART:19810329T020000
RRULE:FREQ=YEARLY;BYMONTH=3;BYDAY=-1SU
TZNAME:CEST
END:DAYLIGHT
BEGIN:STANDARD
TZOFFSETFROM:+0200
TZOFFSETTO:+0100
DTSTART:19961027T030000
RRULE:FREQ=YEARLY;BYMONTH=10;BYDAY=-1SU
TZNAME:CET
END:STANDARD
END:VTIMEZONE
BEGIN:VEVENT
LOCATION:Viktoria Filmtheater Hilchenbach-Dahlbruch | Bernhard-Weiss-Platz 6
SUMMARY:Downton Abbey: Das große Finale | 
DESCRIPTION:(GB 2025, 125 Minuten, ab 6) Nach dem Tod der Matriarchin Violet Crawley (Maggie Smith) hat Lady Mary Talbot (Michelle Dockery) die Verantwortung für das Downton-Abbey-Anwesen über-nommen. Seit der Scheidung von ihrem Ehemann Henry (Matthew Goode) gilt sie jedoch in der feinen Gesellschaft als "unerwünschte Person". Während Lord und Lady Grantham (Hugh Bonneville und Elizabeth McGovern) weiterhin auf dem Landsitz verweilen, muss sich Lady Mary den Herausforderungen der Moderne stellen. Da im Zuge des US-Börsen-krachs 1929 das Vermögen der Crawleys erheblich geschrumpft ist, stellen sich zunehmend finanzielle Probleme ein, wodurch das gesamte Anwesen, Anwohner wie Bedienstete, mit dem drohenden sozialen Abstieg konfrontiert wird. "Der opulente Kostümfilm bildet den ebenso wehmütigen wie erhebenden Abschluss der Trilogie." (Filmdienst) | Info: 02733 61467 | https://www.siwitermine.de/61403 
UID:siwitermine/61403/2025-10-21-2W  
CLASS:PUBLIC
DTSTART;TZID=Europe/Berlin:20251101T173000
DTEND;TZID=Europe/Berlin:20251101T173000
DTSTAMP:20251029T084159
END:VEVENT
END:VCALENDAR
