BEGIN:VCALENDAR
METHOD:PUBLISH
X-WR-TIMEZONE:Europe/Berlin
PRODID:https://www.siwitermine.de
CALSCALE:GREGORIAN
VERSION:2.0
BEGIN:VTIMEZONE
TZID:Europe/Berlin
BEGIN:DAYLIGHT
TZOFFSETFROM:+0100
TZOFFSETTO:+0200
DTSTART:19810329T020000
RRULE:FREQ=YEARLY;BYMONTH=3;BYDAY=-1SU
TZNAME:CEST
END:DAYLIGHT
BEGIN:STANDARD
TZOFFSETFROM:+0200
TZOFFSETTO:+0100
DTSTART:19961027T030000
RRULE:FREQ=YEARLY;BYMONTH=10;BYDAY=-1SU
TZNAME:CET
END:STANDARD
END:VTIMEZONE
BEGIN:VEVENT
LOCATION:Viktoria Filmtheater Hilchenbach-Dahlbruch | Bernhard-Weiss-Platz 6
SUMMARY:Momo | 
DESCRIPTION:Das Waisenmädchen Momo lebt in den Ruinen eines alten Amphitheaters und hört jedem zu, der Hilfe braucht. Doch als ein mächtiger internationaler Konzern beginnt, die Zeit aller zu stehlen, hat niemand mehr Zeit für sie, geschweige denn für ihre Freunde oder Familien - und Momo ist zusammen mit Meister Hora, dem Hüter der Zeit, die Einzige, die es mit den Zeitdieben aufnehmen kann, bevor alles für immer verloren ist. | Info: 02733 61467 | https://www.siwitermine.de/61401 
UID:siwitermine/61401/2025-10-21-2W  
CLASS:PUBLIC
DTSTART;TZID=Europe/Berlin:20251102T150000
DTEND;TZID=Europe/Berlin:20251102T150000
DTSTAMP:20251029T083941
END:VEVENT
END:VCALENDAR
