BEGIN:VCALENDAR
METHOD:PUBLISH
X-WR-TIMEZONE:Europe/Berlin
PRODID:https://www.siwitermine.de
CALSCALE:GREGORIAN
VERSION:2.0
BEGIN:VTIMEZONE
TZID:Europe/Berlin
BEGIN:DAYLIGHT
TZOFFSETFROM:+0100
TZOFFSETTO:+0200
DTSTART:19810329T020000
RRULE:FREQ=YEARLY;BYMONTH=3;BYDAY=-1SU
TZNAME:CEST
END:DAYLIGHT
BEGIN:STANDARD
TZOFFSETFROM:+0200
TZOFFSETTO:+0100
DTSTART:19961027T030000
RRULE:FREQ=YEARLY;BYMONTH=10;BYDAY=-1SU
TZNAME:CET
END:STANDARD
END:VTIMEZONE
BEGIN:VEVENT
LOCATION:Viktoria Filmtheater Hilchenbach-Dahlbruch | Bernhard-Weiss-Platz 6
SUMMARY:Amrum | 
DESCRIPTION:Amrum, im Frühjahr 1945: Der 12-jährige Nanning (Jasper Billerbeck) arbeitet auf dem Kartoffelacker der Bäuerin Tessa (Diane Kruger) oder sucht Treibholz als Brennmaterial für seine Familie. Die hochschwangere Mutter Hille (Laura Tonke), eine überzeugte Nationalsozialistin, musste mit ihren Kindern aus dem zerbombten Hamburg auf die Insel fliehen. Nanning möchte seiner depressiven Mutter ein Stück Weißbrot mit Butter und Honig besorgen. Alle drei Bestandteile sind auf Amrum Mangelware, und so muss der Junge all seinen Verstand aufbringen, um durch Tauschgeschäfte einen Löffel Zucker oder eine Handvoll Mehl zu ergattern. Basierend auf den Kindheitserinnerungen des Filmemachers Hark Bohm hat Regisseur Fatih Akin ("Tschick") einen angesichts der düsteren Zeit "überraschend sonnigen und unterhaltsamen Film gedreht." (Filmstarts) "Ein stilles, bildgewaltiges und packendes Drama." (Stern) | Info: 02733 61467 | https://www.siwitermine.de/61396 
UID:siwitermine/61396/2025-10-21-2W  
CLASS:PUBLIC
DTSTART;TZID=Europe/Berlin:20251103T173000
DTEND;TZID=Europe/Berlin:20251103T173000
DTSTAMP:20251029T083538
END:VEVENT
END:VCALENDAR
