BEGIN:VCALENDAR
METHOD:PUBLISH
X-WR-TIMEZONE:Europe/Berlin
PRODID:https://www.siwitermine.de
CALSCALE:GREGORIAN
VERSION:2.0
BEGIN:VTIMEZONE
TZID:Europe/Berlin
BEGIN:DAYLIGHT
TZOFFSETFROM:+0100
TZOFFSETTO:+0200
DTSTART:19810329T020000
RRULE:FREQ=YEARLY;BYMONTH=3;BYDAY=-1SU
TZNAME:CEST
END:DAYLIGHT
BEGIN:STANDARD
TZOFFSETFROM:+0200
TZOFFSETTO:+0100
DTSTART:19961027T030000
RRULE:FREQ=YEARLY;BYMONTH=10;BYDAY=-1SU
TZNAME:CET
END:STANDARD
END:VTIMEZONE
BEGIN:VEVENT
LOCATION:City-Galerie Siegen
SUMMARY:Finissage des Projektes LOOPS | Auf dem Dach der City Galerie
DESCRIPTION:Die Künstlergruppe 3/55 zu einer Finissage ihres Pro-jektes "LOOOPS" ein. Besonderer Veranstaltungsort ist das oberste Parkdeck der City Galerie. Per Projektion gezeigt werden alle Filme, die von 3/55 produziert wurden und die über den QR-Code, der seit Anfang August die Fassade des SVB-Gebäudes in der Morleystraße schmückt, aufgerufen wurden konnten. "LOOOPS" ist ein Teil des Kunstprojekts "disPLAY", das von KulturSiegen, den Siegener Versor-gungsbetrieben (SVB) GmbH und der Universität Siegen aufgelegt wurde. Das fünfte "Kunst-Geschenk" in Fortführung der zum 800. Geburtstag der Stadt Siegen ins Leben gerufenen Kunst-reihe "disPLAY" wurde von der Siegener Künstlergruppe "3/55" entwickelt. Der auf ein über-großes Banner gedruckte farbige QR-Code am SVB-Gebäude in der Siegener Morleystraße führt zu wöchentlich wechselnden, eigens für das Siegener Kunstprojekt entwickelten Kurzfil-men. Anlässlich des Stadtjubiläums war hier im Mai letzten Jahres in Kooperation von KulturSiegen und dem Projekt Wanderspace unter der Regie des Fachbereichs "Künstlerische Strategien im öffentlichen Raum und kulturelle Bildung" der Universität Siegen eine Ausstellungsfläche ent-standen. Sie zeigt wechselnde Arbeiten von internationalen, nationalen und regionalen Künstle-rinnen und Künstlern. Nach den Kunstwerken ""Maqueta para un recuerdo (Modell für eine Erinnerung)" von Valeria Fahrenkrog, "ALL HUMANS LOVE" von Julia Bünnagel, "Brag" von David Mergelmeyer und "Fly-over" von Frauke Dannert ist "LOOOPS" das fünfte Kunstwerk der Kooperation zwischen Kultur-Siegen, Uni Siegen/Projekt Wanderspace und den SVB.  | Info: . | https://www.siwitermine.de/61324 
UID:siwitermine/61324/2025-10-21-2W  
CLASS:PUBLIC
DTSTART;TZID=Europe/Berlin:20251022T180000
DTEND;TZID=Europe/Berlin:20251022T180000
DTSTAMP:20251017T101957
END:VEVENT
END:VCALENDAR
