BEGIN:VCALENDAR
METHOD:PUBLISH
X-WR-TIMEZONE:Europe/Berlin
PRODID:https://www.siwitermine.de
CALSCALE:GREGORIAN
VERSION:2.0
BEGIN:VTIMEZONE
TZID:Europe/Berlin
BEGIN:DAYLIGHT
TZOFFSETFROM:+0100
TZOFFSETTO:+0200
DTSTART:19810329T020000
RRULE:FREQ=YEARLY;BYMONTH=3;BYDAY=-1SU
TZNAME:CEST
END:DAYLIGHT
BEGIN:STANDARD
TZOFFSETFROM:+0200
TZOFFSETTO:+0100
DTSTART:19961027T030000
RRULE:FREQ=YEARLY;BYMONTH=10;BYDAY=-1SU
TZNAME:CET
END:STANDARD
END:VTIMEZONE
BEGIN:VEVENT
LOCATION:Haardter Kirche Weidenau | Setzer Weg 4
SUMMARY:herbst depression | Vokalmusik für und gegen Melancholie
DESCRIPTION:Ein Abend voller Gegensätze. Hell und dunkel. Still und lebendig. Nachdenklich und stark. Join the Meladies, voiceBox und KlangWerk bringen Musik auf die Bühne, die tröstet, bewegt und manchmal einfach glücklich macht. Ein Abend, der sich anhört wie durchatmen. Vielleicht genau das Richtige für einen Montag. Einlass ab 18.30 Uhr, Eintritt frei. | Info: 02739/303644 | https://www.siwitermine.de/61318 
UID:siwitermine/61318/2025-10-21-2W  
CLASS:PUBLIC
DTSTART;TZID=Europe/Berlin:20251027T190000
DTEND;TZID=Europe/Berlin:20251027T190000
DTSTAMP:20251027T090133
END:VEVENT
END:VCALENDAR
