BEGIN:VCALENDAR
METHOD:PUBLISH
X-WR-TIMEZONE:Europe/Berlin
PRODID:https://www.siwitermine.de
CALSCALE:GREGORIAN
VERSION:2.0
BEGIN:VTIMEZONE
TZID:Europe/Berlin
BEGIN:DAYLIGHT
TZOFFSETFROM:+0100
TZOFFSETTO:+0200
DTSTART:19810329T020000
RRULE:FREQ=YEARLY;BYMONTH=3;BYDAY=-1SU
TZNAME:CEST
END:DAYLIGHT
BEGIN:STANDARD
TZOFFSETFROM:+0200
TZOFFSETTO:+0100
DTSTART:19961027T030000
RRULE:FREQ=YEARLY;BYMONTH=10;BYDAY=-1SU
TZNAME:CET
END:STANDARD
END:VTIMEZONE
BEGIN:VEVENT
LOCATION:KrönchenCenter | Markt 25 | 57072 Siegen
SUMMARY:Kalabrien und Apulien - Italiens unbekannter Süden | Mutlivisions-Vortrag
DESCRIPTION:Bildlich sind die beiden Regionen die Spitze und der Absatz des Stiefels, als der sich Italien auf der Landkarte zeigt. Der wirtschaftliche Aufschwung ist im Süden noch nicht angekommen, aber deshalb sieht man hier viel Ursprünglichkeit. Dies trägt zum Charme dieser Regionen bei. Als Standquartier für die Erkundung Kalabriens bietet sich Tropea an, dessen Altstadt oben auf einem Bergsporn liegt. Von hier aus geht die Reise zu faszinierenden Städten und malerischen alten Dörfern. Eine Bootstour führt zu den Äolischen Inseln mit ihren immer noch aktiven Vulkanen. Der zweite Teil des Vortrags zeigt Apulien. Höhepunkte dieser Reise sind u. a. das märchenhafte Alberobello mit zahllosen Trulli und die Höhlenstadt Matera, beides gehört zum UNESCO-Weltkulturerbe. Die Reisereportage von Gerhard Braunöhler bietet mit brillanten Bildern auf großer Leinwand und mit ausgewählter Musik ein besonderes Erlebnis. Dazu gibt es viele Informationen zu Land und Leuten. | Info: 0271/404-3000 | https://www.siwitermine.de/61317 
UID:siwitermine/61317/2025-10-21-2W  
CLASS:PUBLIC
DTSTART;TZID=Europe/Berlin:20251030T193000
DTEND;TZID=Europe/Berlin:20251030T193000
DTSTAMP:20251016T140819
END:VEVENT
END:VCALENDAR
