BEGIN:VCALENDAR
METHOD:PUBLISH
X-WR-TIMEZONE:Europe/Berlin
PRODID:https://www.siwitermine.de
CALSCALE:GREGORIAN
VERSION:2.0
BEGIN:VTIMEZONE
TZID:Europe/Berlin
BEGIN:DAYLIGHT
TZOFFSETFROM:+0100
TZOFFSETTO:+0200
DTSTART:19810329T020000
RRULE:FREQ=YEARLY;BYMONTH=3;BYDAY=-1SU
TZNAME:CEST
END:DAYLIGHT
BEGIN:STANDARD
TZOFFSETFROM:+0200
TZOFFSETTO:+0100
DTSTART:19961027T030000
RRULE:FREQ=YEARLY;BYMONTH=10;BYDAY=-1SU
TZNAME:CET
END:STANDARD
END:VTIMEZONE
BEGIN:VEVENT
LOCATION:Aula des Kulturhauses Lÿz Siegen | St. Johann-Str. 18
SUMMARY:Zivilgesellschaft - Begriff, Geschichte und Praxis | Siegener Forum mit Prof. Dr. Frank Adloff
DESCRIPTION:Der Begriff der Zivilgesellschaft ist so vielschichtig wie aktuell: facettenreich, oft diffus genutzt und doch voller Handlungsräume. In seinem Vortrag sortiert Prof. Dr. Frank Adloff zentrale Zugänge zum Konzept und legt damit den Grundstein für die folgenden Beiträge der Reihe "Zivilgesellschaft unter Druck". | Info: 0271/740-4508 | https://www.siwitermine.de/61305 
UID:siwitermine/61305/2025-10-21-2W  
CLASS:PUBLIC
DTSTART;TZID=Europe/Berlin:20251030T200000
DTEND;TZID=Europe/Berlin:20251030T200000
DTSTAMP:20251016T142258
END:VEVENT
END:VCALENDAR
