BEGIN:VCALENDAR
METHOD:PUBLISH
X-WR-TIMEZONE:Europe/Berlin
PRODID:https://www.siwitermine.de
CALSCALE:GREGORIAN
VERSION:2.0
BEGIN:VTIMEZONE
TZID:Europe/Berlin
BEGIN:DAYLIGHT
TZOFFSETFROM:+0100
TZOFFSETTO:+0200
DTSTART:19810329T020000
RRULE:FREQ=YEARLY;BYMONTH=3;BYDAY=-1SU
TZNAME:CEST
END:DAYLIGHT
BEGIN:STANDARD
TZOFFSETFROM:+0200
TZOFFSETTO:+0100
DTSTART:19961027T030000
RRULE:FREQ=YEARLY;BYMONTH=10;BYDAY=-1SU
TZNAME:CET
END:STANDARD
END:VTIMEZONE
BEGIN:VEVENT
LOCATION:Viktoria Filmtheater Hilchenbach-Dahlbruch | Bernhard-Weiss-Platz 6
SUMMARY:Ganzer halber Bruder | 
DESCRIPTION:Gerade aus dem Gefängnis entlassen, erfährt der Immobilienbetrüger Thomas (Christoph Maria Herbst), dass seine ihm unbekannte Mutter ein wertvolles Haus hinterlassen hat. Doch die Immobilie lässt sich nicht zu Geld machen, denn dort lebt sein Halbbruder Roland (Nico Randel), ein leidenschaftlicher Oldie-Fan mit Vorliebe für Krafttraining und sportliche Autos, der das Down-Syndrom hat und ein lebenslanges Wohnrecht. Thomas zieht kurzerhand ein und versucht mit allen Tricks, seinen Halbbruder loszuwerden. Doch Roland begegnet ihm mit Entschlossenheit, Offenheit und überraschender Stärke. Bemerkenswert an der Tragikomödie ist vor allem der Umgang mit Trisomie 21, weil der Film sich auf den Alltag eines Menschen mit Down-Syndrom einlässt. | Info: 02733 61467 | https://www.siwitermine.de/61270 
UID:siwitermine/61270/2025-10-21-2W  
CLASS:PUBLIC
DTSTART;TZID=Europe/Berlin:20251021T173000
DTEND;TZID=Europe/Berlin:20251021T173000
DTSTAMP:20251014T104140
END:VEVENT
END:VCALENDAR
