BEGIN:VCALENDAR
METHOD:PUBLISH
X-WR-TIMEZONE:Europe/Berlin
PRODID:https://www.siwitermine.de
CALSCALE:GREGORIAN
VERSION:2.0
BEGIN:VTIMEZONE
TZID:Europe/Berlin
BEGIN:DAYLIGHT
TZOFFSETFROM:+0100
TZOFFSETTO:+0200
DTSTART:19810329T020000
RRULE:FREQ=YEARLY;BYMONTH=3;BYDAY=-1SU
TZNAME:CEST
END:DAYLIGHT
BEGIN:STANDARD
TZOFFSETFROM:+0200
TZOFFSETTO:+0100
DTSTART:19961027T030000
RRULE:FREQ=YEARLY;BYMONTH=10;BYDAY=-1SU
TZNAME:CET
END:STANDARD
END:VTIMEZONE
BEGIN:VEVENT
LOCATION:Alte Vogtei Gummersbach | Kaiserstraße 19 | 51643 Gummersbach
SUMMARY:Ingo Schultze-Schnabl Drei | Kunstvorstellungen
DESCRIPTION:17.10.2025 bis 11.12.2025 | 14.00 - 16.00 Uhr | So bleibt es dabei, dass im Kunstfenster der Alten Vogtei im Stadtzentrum von Gummersbach ein kleiner, aber interessanter und spannender Einblick in das Schaffen verschiedener Künstler ermöglicht wird. Für jedermann leicht zugänglich ist zeitgenössische Kunst zu den Öffnungszeiten der Alten Vogtei anzusehen. Der Titel "DREI" nimmt Bezug auf eine häufige Komposition von Ingo Schultze-Schnabl, nämlich die Zusammensetzung eines Werkes aus drei Bildelementen. | Info: Tel.: 02261/5015151 | https://www.siwitermine.de/61262 
UID:siwitermine/61262/2025-10-21-2W  
CLASS:PUBLIC
DTSTART;TZID=Europe/Berlin:20251021T000000Z
DTEND;TZID=Europe/Berlin:20251021T000000Z
DTSTAMP:20251014T094624
END:VEVENT
END:VCALENDAR
