BEGIN:VCALENDAR
METHOD:PUBLISH
X-WR-TIMEZONE:Europe/Berlin
PRODID:https://www.siwitermine.de
CALSCALE:GREGORIAN
VERSION:2.0
BEGIN:VTIMEZONE
TZID:Europe/Berlin
BEGIN:DAYLIGHT
TZOFFSETFROM:+0100
TZOFFSETTO:+0200
DTSTART:19810329T020000
RRULE:FREQ=YEARLY;BYMONTH=3;BYDAY=-1SU
TZNAME:CEST
END:DAYLIGHT
BEGIN:STANDARD
TZOFFSETFROM:+0200
TZOFFSETTO:+0100
DTSTART:19961027T030000
RRULE:FREQ=YEARLY;BYMONTH=10;BYDAY=-1SU
TZNAME:CET
END:STANDARD
END:VTIMEZONE
BEGIN:VEVENT
LOCATION:Tagesklinik Netphen | Untere Industriestraße 20 | Netphen
SUMMARY:Ausbildungen zum Ersthelfer für psychische Gesundheit | 
DESCRIPTION:Die MHFA Ersthelfer-Kurse sind 12-stündige Schulungen, in denen Teilnehmende lernen, psychische Probleme frühzeitig zu erkennen und angemessen zu reagieren. Die Kurse werden von geschultem Fachpersonal durchgeführt und beinhalten praktische Übungen, Gesprächstechniken sowie Rollenspiele. Zudem erhalten die Teilnehmenden Informationen über lokale und deutschlandweite Hilfsangebote. Ziel der Kurse ist es, das Wissen über psychische Gesundheit zu verbessern, stigmatisierendes Verhalten abzubauen und das Vertrauen in die eigenen Helferkompetenzen zu stärken. Durch die Ausbildung können Ersthelfer*innen nicht nur anderen helfen, sondern auch ihre eigene psychische Gesundheit fördern. Interessierte sind herzlich eingeladen, sich für die Kurse anzumelden und Teil eines wachsenden Netzwerks von Ersthelfer*innen für psychische Gesundheit zu werden! Jeder kann teilnehmen, es gibt keine Voraussetzungen. Die Veranstaltungsreihe ist kostenpflichtig. Weitere Informationen unter ersthelfer-psych@klinik-wittgenstein.de | Info: 0271 77 00 03-0 | https://www.siwitermine.de/61258 
UID:siwitermine/61258/2025-10-21-2W  
CLASS:PUBLIC
DTSTART;TZID=Europe/Berlin:20251103T170000
DTEND;TZID=Europe/Berlin:20251103T170000
DTSTAMP:20251013T141141
END:VEVENT
END:VCALENDAR
