BEGIN:VCALENDAR
METHOD:PUBLISH
X-WR-TIMEZONE:Europe/Berlin
PRODID:https://www.siwitermine.de
CALSCALE:GREGORIAN
VERSION:2.0
BEGIN:VTIMEZONE
TZID:Europe/Berlin
BEGIN:DAYLIGHT
TZOFFSETFROM:+0100
TZOFFSETTO:+0200
DTSTART:19810329T020000
RRULE:FREQ=YEARLY;BYMONTH=3;BYDAY=-1SU
TZNAME:CEST
END:DAYLIGHT
BEGIN:STANDARD
TZOFFSETFROM:+0200
TZOFFSETTO:+0100
DTSTART:19961027T030000
RRULE:FREQ=YEARLY;BYMONTH=10;BYDAY=-1SU
TZNAME:CET
END:STANDARD
END:VTIMEZONE
BEGIN:VEVENT
LOCATION:Heimhof-Theater | Heimhofstr. 7 a | Burbach
SUMMARY:Verschoben auf 25.04.2026: Lavalampe und Flokati | Die wilden 70er - Good Old Times Revue
DESCRIPTION:Von und mit Dario Weberg und Karolin Kersting Die 70er Jahre, ein halbes Jahrhundert her und doch noch so nah in unseren Erinnerungen. Irgendwie war diese Zeit hip, bunt, in unseren Erinnerungen gab es nie eine buntere Zeit, grelle Farben, alles war irgendwie leuchtend und frech. Bei dem Begriff 70er Jahre erscheint vor den Augen der meisten dieser Generation zuerst ein grelles Orange, dann Gelb, Hellgrün und vor allen Dingen Kackbraun. Tapeten mit großen Mustern in braun-orange-grün und vor dem Sitzsack aus Skyleder mit Steroporkügelchen ein dicker Flokatiteppich, in dem sich immer die Zigarettenasche und die Erdnussflips verfingen. Übrigens ganz chic als Sitzmöbel Omas ausrangierte dreiteilige ausgeleierte Rheuma-Matratze mit buntem Stoff bezogen: also zwei Matratzen auf dem Boden zum Sitzen und eine hochgestellt an die Wand als Rückenlehne, rechts daneben als Tische Teeexportholzkisten aus Übersee, darauf Lavalampe, Aschenbecher und Räucherstäbchen Moschus oder Patschuli. An der Wand als Poster neben Einstein, Che Guevara und Cat Stevens oder The Who. Suzie. Die wilden 70er - Lavalampe und Flokati - Good Old Times Revue. | Info: 02736/4588 | https://www.siwitermine.de/61250 
UID:siwitermine/61250/2025-10-21-2W  
CLASS:PUBLIC
DTSTART;TZID=Europe/Berlin:20251025T200000
DTEND;TZID=Europe/Berlin:20251025T200000
DTSTAMP:20251010T150806
END:VEVENT
END:VCALENDAR
