BEGIN:VCALENDAR
METHOD:PUBLISH
X-WR-TIMEZONE:Europe/Berlin
PRODID:https://www.siwitermine.de
CALSCALE:GREGORIAN
VERSION:2.0
BEGIN:VTIMEZONE
TZID:Europe/Berlin
BEGIN:DAYLIGHT
TZOFFSETFROM:+0100
TZOFFSETTO:+0200
DTSTART:19810329T020000
RRULE:FREQ=YEARLY;BYMONTH=3;BYDAY=-1SU
TZNAME:CEST
END:DAYLIGHT
BEGIN:STANDARD
TZOFFSETFROM:+0200
TZOFFSETTO:+0100
DTSTART:19961027T030000
RRULE:FREQ=YEARLY;BYMONTH=10;BYDAY=-1SU
TZNAME:CET
END:STANDARD
END:VTIMEZONE
BEGIN:VEVENT
LOCATION:Schauplatz im Kulturhaus Lÿz | Siegen | St.-Johann-Str. 18
SUMMARY:Frech + Frei - 50 Jahre Kämpfe der Behindertenbewegung | Buchpräsentation und Diskussion
DESCRIPTION:Das Buch Frech + Frei erzählt vom Widerstand einer sich entwickelnden Selbstbestimmt-Leben-Bewegung seit der Mitte der 1970er-Jahre. Es berichtet von der permanenten Auseinandersetzung mit gängigen Normen, Werten und Körperidealen, die noch oft die Prägungen der nationalsozialistischen Vergangenheit aufweisen. Es erinnert an Demonstrationen gegen behindertenfeindliche Gerichtsurteile und an Bühnen- und Rathausbesetzungen. Es dokumentiert Proteste für die barrierefreie Nutzung von Bus und Bahn und zeichnet die Gegenwehr gegen neue »Euthanasie«-Forderungen und die Selektion durch humangenetische Techniken nach. Es skizziert den steinigen Weg, bis die Behindertenrechte Eingang in das Grundgesetz fanden, und warnt vor einem drohenden Rollback durch das Erstarken rechtsradikaler Denkweisen. Das mit Plakaten, Flugblättern und Zeitungsartikeln bebilderte Geschehen unterstreicht die Erkenntnis: Ohne die bewusste Verletzung von Regeln und Gesetzen sind die Erfolge der emanzipatorischen Behindertenbewegung undenkbar. Die Veranstaltung ist barrierefrei. Tickets sind im Vorverkauf für 5 Euro erhältlich. | Info: 0171/4388456 | https://www.siwitermine.de/61182 
UID:siwitermine/61182/2025-10-21-2W  
CLASS:PUBLIC
DTSTART;TZID=Europe/Berlin:20251029T180000
DTEND;TZID=Europe/Berlin:20251029T180000
DTSTAMP:20251009T093155
END:VEVENT
END:VCALENDAR
