BEGIN:VCALENDAR
METHOD:PUBLISH
X-WR-TIMEZONE:Europe/Berlin
PRODID:https://www.siwitermine.de
CALSCALE:GREGORIAN
VERSION:2.0
BEGIN:VTIMEZONE
TZID:Europe/Berlin
BEGIN:DAYLIGHT
TZOFFSETFROM:+0100
TZOFFSETTO:+0200
DTSTART:19810329T020000
RRULE:FREQ=YEARLY;BYMONTH=3;BYDAY=-1SU
TZNAME:CEST
END:DAYLIGHT
BEGIN:STANDARD
TZOFFSETFROM:+0200
TZOFFSETTO:+0100
DTSTART:19961027T030000
RRULE:FREQ=YEARLY;BYMONTH=10;BYDAY=-1SU
TZNAME:CET
END:STANDARD
END:VTIMEZONE
BEGIN:VEVENT
LOCATION:Rudolf Steiner Schule Siegen | Kolpingstr. 3
SUMMARY:Atemberaubende Tanzshow Restaurant | Moulin Rouge in Siegen - sichern Sie sich jetzt Ihre Tickets online!
DESCRIPTION:Was wäre, wenn ein einziger Abend Ihr Herz berührt? Was, wenn Tanz mehr sagt als Worte - und Sie mittendrin sind? Willkommen im "RESTAURANT" - ein Ort der Versuchung, voller Glanz, Geheimnisse und Leidenschaft. Hier erwachen Gefühle. Hier tanzt das Leben. Eine atemberaubende Tanzproduktion, die das Publikum mitnimmt auf eine Reise voller Leidenschaft, Glanz und Emotionen. Inspiriert vom Glamour des legendären Moulin Rouge, vereint die Show Tanz, spektakuläre Akrobatik, sinnlichen Poledance und eine fesselnde Liebesgeschichte zu einem einzigartigen Erlebnis. Vom ersten Blick bis zur Hochzeit - auf der Bühne erleben Sie ein ganzes Leben. Eine Show, die unter die Haut geht und lange im Herzen bleibt! Wir heißen Sie herzlich Willkommen. | Info: 017622385004 | https://www.siwitermine.de/61178 
UID:siwitermine/61178/2025-10-21-2W  
CLASS:PUBLIC
DTSTART;TZID=Europe/Berlin:20251102T180000
DTEND;TZID=Europe/Berlin:20251102T180000
DTSTAMP:20251008T152930
END:VEVENT
END:VCALENDAR
