BEGIN:VCALENDAR
METHOD:PUBLISH
X-WR-TIMEZONE:Europe/Berlin
PRODID:https://www.siwitermine.de
CALSCALE:GREGORIAN
VERSION:2.0
BEGIN:VTIMEZONE
TZID:Europe/Berlin
BEGIN:DAYLIGHT
TZOFFSETFROM:+0100
TZOFFSETTO:+0200
DTSTART:19810329T020000
RRULE:FREQ=YEARLY;BYMONTH=3;BYDAY=-1SU
TZNAME:CEST
END:DAYLIGHT
BEGIN:STANDARD
TZOFFSETFROM:+0200
TZOFFSETTO:+0100
DTSTART:19961027T030000
RRULE:FREQ=YEARLY;BYMONTH=10;BYDAY=-1SU
TZNAME:CET
END:STANDARD
END:VTIMEZONE
BEGIN:VEVENT
LOCATION:Qulturwerkstatt e.V. | Zaunstr. 1d | Netphen-Deuz
SUMMARY:Komm mit mir nach Santiago: Meine Pilgerreise auf dem Camino Francés  | Lesung mit Sandra Kerl in der Qulturwerkstatt
DESCRIPTION:Viele Menschen möchten gerne einmal den Jakobs-Weg wandern. Sandra Kerl erzählt von Ihren Erfahrungen und stellt ihr Buch dazu vor. Über das Buch: Nachdem sie von ihrem Körper die rote Karte gezeigt bekommen hat, macht sie endlich Nägel mit Köpfen und sich auf den Weg von Saint-Jean-Pied-de-port in Frankreich nach Santiago de Compostela. Zurück bleiben die jahrelangen Bedenken und Ausreden, dafür dürfen Mut, der unbedingte Wille es zu schaffen, und eine handvoll bunt bemalter Pilgersteine mit ins Gepäck. Mit viel Humor und Selbstironie erzählt sie von ihren zum Teil skurrilen Erlebnissen, den körperlichen Herausforderungen und vielen bewegenden Begegnungen auf den nicht immer einfachen 800 Kilometern des Camino Francés. Dieser ungewöhnliche Reisebericht ist ein bunter Blumenstrauß an Emotionen und erweckt den Wunsch, sofort den eigenen Rucksack für das größte Abenteuer mit sich selbst zu packen. Eine Anleitung zum Mutigsein und Nachmachen. | Info: 015906129063 | https://www.siwitermine.de/61173 
UID:siwitermine/61173/2025-10-21-2W  
CLASS:PUBLIC
DTSTART;TZID=Europe/Berlin:20251029T190000
DTEND;TZID=Europe/Berlin:20251029T190000
DTSTAMP:20251008T151611
END:VEVENT
END:VCALENDAR
