BEGIN:VCALENDAR
METHOD:PUBLISH
X-WR-TIMEZONE:Europe/Berlin
PRODID:https://www.siwitermine.de
CALSCALE:GREGORIAN
VERSION:2.0
BEGIN:VTIMEZONE
TZID:Europe/Berlin
BEGIN:DAYLIGHT
TZOFFSETFROM:+0100
TZOFFSETTO:+0200
DTSTART:19810329T020000
RRULE:FREQ=YEARLY;BYMONTH=3;BYDAY=-1SU
TZNAME:CEST
END:DAYLIGHT
BEGIN:STANDARD
TZOFFSETFROM:+0200
TZOFFSETTO:+0100
DTSTART:19961027T030000
RRULE:FREQ=YEARLY;BYMONTH=10;BYDAY=-1SU
TZNAME:CET
END:STANDARD
END:VTIMEZONE
BEGIN:VEVENT
LOCATION:Stadtbibliothek Siegen | Markt 25
SUMMARY:Gruselspaziergang für Kinder | Vorlesestunde im Siegerlandmuseum im Oberen Schloss
DESCRIPTION:Die Stadtbibliothek Siegen lädt in Kooperation mit dem Siegerlandmuseum im Oberen Schloss Kinder ab acht Jahren zu einem besonderen Nachmittag ein. Im Besucherbergwerk geht es auf einen Gruselspaziergang, der die jungen Teilnehmerinnen und Teilnehmer auf eine spannende Entdeckungsreise führt. Die Veranstaltung verbindet Vorlesen, Bewegung und die besondere Umgebung des Museums. Während des Rundgangs durch die alten Stollen hören die Kinder gruselige Geschichten, die perfekt zur geheimnisvollen Atmosphäre passen. Gedämpftes Licht, enge Gänge und die besondere Kulisse lassen die Erzählungen lebendig werden und regen die Fantasie an. Der Gruselspaziergang zeigt, dass Geschichten nicht nur in Büchern oder im Alltag erlebt werden können, sondern auch an ungewöhnlichen Orten eine ganz besondere Wirkung entfalten. Im Anschluss an den Spaziergang gibt es eine Bastelaktion, bei der die Kinder selbst tätig werden können. Die Teilnahme ist kostenfrei, eine Anmeldung ist nicht erforderlich. | Info: 0271 404-3011 | https://www.siwitermine.de/61118 
UID:siwitermine/61118/2025-10-21-2W  
CLASS:PUBLIC
DTSTART;TZID=Europe/Berlin:20251023T153000
DTEND;TZID=Europe/Berlin:20251023T153000
DTSTAMP:20250929T082811
END:VEVENT
END:VCALENDAR
