BEGIN:VCALENDAR
METHOD:PUBLISH
X-WR-TIMEZONE:Europe/Berlin
PRODID:https://www.siwitermine.de
CALSCALE:GREGORIAN
VERSION:2.0
BEGIN:VTIMEZONE
TZID:Europe/Berlin
BEGIN:DAYLIGHT
TZOFFSETFROM:+0100
TZOFFSETTO:+0200
DTSTART:19810329T020000
RRULE:FREQ=YEARLY;BYMONTH=3;BYDAY=-1SU
TZNAME:CEST
END:DAYLIGHT
BEGIN:STANDARD
TZOFFSETFROM:+0200
TZOFFSETTO:+0100
DTSTART:19961027T030000
RRULE:FREQ=YEARLY;BYMONTH=10;BYDAY=-1SU
TZNAME:CET
END:STANDARD
END:VTIMEZONE
BEGIN:VEVENT
LOCATION:Café Flocke | Marburger Str. 45 | Siegen
SUMMARY:Konzertabend | Luc Ibrom & True Shit
DESCRIPTION:Luc Ibrom, ein vielseitiger Musiker aus der Region, kommt zu uns ins Café Flocke und beginnt den Konzertabend als Solo-Künstler an der Gitarre und am Gesang. Darauf folgt das Trio "True Shit" mit ehrlichem Punk-Rock und jeder Menge guter Laune!  | Info: 0271 2339402 | https://www.siwitermine.de/60815 
UID:siwitermine/60815/2025-10-21-2W  
CLASS:PUBLIC
DTSTART;TZID=Europe/Berlin:20251031T200000
DTEND;TZID=Europe/Berlin:20251031T200000
DTSTAMP:20250909T084343
END:VEVENT
END:VCALENDAR
