BEGIN:VCALENDAR
METHOD:PUBLISH
X-WR-TIMEZONE:Europe/Berlin
PRODID:https://www.siwitermine.de
CALSCALE:GREGORIAN
VERSION:2.0
BEGIN:VTIMEZONE
TZID:Europe/Berlin
BEGIN:DAYLIGHT
TZOFFSETFROM:+0100
TZOFFSETTO:+0200
DTSTART:19810329T020000
RRULE:FREQ=YEARLY;BYMONTH=3;BYDAY=-1SU
TZNAME:CEST
END:DAYLIGHT
BEGIN:STANDARD
TZOFFSETFROM:+0200
TZOFFSETTO:+0100
DTSTART:19961027T030000
RRULE:FREQ=YEARLY;BYMONTH=10;BYDAY=-1SU
TZNAME:CET
END:STANDARD
END:VTIMEZONE
BEGIN:VEVENT
LOCATION:Nikolaikirche | Krämergasse 2 | Siegen
SUMMARY:Zwischentöne, hell - dunkel | Konzert mit Paul Hübner und Martin Herchenröder
DESCRIPTION:Kantorei Siegen in Zusammenarbeit mit dem Studio für Neue Musik der Universität Siegen Musik für Trompete und Orgel von Johann Sebastian Bach, Martin Herchenröder, Rebecca Saunders und Henri Tomasi sowie Improvisationen Paul Hübner (Berlin), Trompete Martin Herchenröder (Siegen), Orgel Trompete und Orgel gelten für gewöhnlich als die beiden Strahlemänner unter den Instrumenten - in glänzendem D-Dur verbreiten sie Festlichkeit, Glanz, Freude und Optimismus. Das Programm dieses Abends nimmt einen etwas anderen Weg: Es begibt sich in unerforschtes Gelände - auf die Suche nach den unzählbaren und unentdeckten Zwischentönen, den unendlichen Schattierungen der Farben und des Ausdrucks, den diese beiden herrlichen Instrumente auch in sich bergen, und entführt uns in eine reiche, zauberische Klangwelt voller Magie, funkelnder Lichtblitze und dunkel widerhallender Abgründe. Der Trompeter Berliner Paul Hübner begann vor einem Jahrzehnt als aufsehenerregender Jung-Star eine Mehrfachkarriere als Trompeter, Komponist und Performance Artist und gilt mittlerweile als einer der profiliertesten Künstler der Neuen Musik, der mit Auftritten auf den großen Festivals (Wien, Witten, Warschauer Herbst, Donaueschingen usw.) und durch Zusammenarbeit mit den bedeutenden Ensembles (ensemble modern, WDR-Rundfunk-Symphonieorchester u.a.) eine feste Größe in der Szene ist. Das Siegener Konzert ist sein erstes im Duo mit dem Komponisten und Organisten Martin Herchenröder und gleichzeitig sein Debut im Studio für Neue Musik der Universität Siegen.  | Info: +49 2733 51156 | https://www.siwitermine.de/60809 
UID:siwitermine/60809/2025-10-21-2W  
CLASS:PUBLIC
DTSTART;TZID=Europe/Berlin:20251102T180000
DTEND;TZID=Europe/Berlin:20251102T180000
DTSTAMP:20250909T104548
END:VEVENT
END:VCALENDAR
