BEGIN:VCALENDAR
METHOD:PUBLISH
X-WR-TIMEZONE:Europe/Berlin
PRODID:https://www.siwitermine.de
CALSCALE:GREGORIAN
VERSION:2.0
BEGIN:VTIMEZONE
TZID:Europe/Berlin
BEGIN:DAYLIGHT
TZOFFSETFROM:+0100
TZOFFSETTO:+0200
DTSTART:19810329T020000
RRULE:FREQ=YEARLY;BYMONTH=3;BYDAY=-1SU
TZNAME:CEST
END:DAYLIGHT
BEGIN:STANDARD
TZOFFSETFROM:+0200
TZOFFSETTO:+0100
DTSTART:19961027T030000
RRULE:FREQ=YEARLY;BYMONTH=10;BYDAY=-1SU
TZNAME:CET
END:STANDARD
END:VTIMEZONE
BEGIN:VEVENT
LOCATION:I.H.W. Park Eiserfeld
SUMMARY:Eiserfelder Trödelmarkt | Traditionsmarkt Eiserfeld
DESCRIPTION:Seit Jahrzehnten zählt der Eiserfelder Trödelmarkt zu den beliebtesten Märkten der Region. Besucher können hier nach Herzenslust stöbern, feilschen und entdecken - von klassischem Trödel bis zu Neuwaren ist alles vertreten. Auch für das leibliche Wohl ist gesorgt. Ein traditionsreicher Treffpunkt für Händler, Sammler und Schnäppchenjäger. | Info: 0160 1228423 | https://www.siwitermine.de/60802 
UID:siwitermine/60802/2025-10-21-2W  
CLASS:PUBLIC
DTSTART;TZID=Europe/Berlin:20251026T110000
DTEND;TZID=Europe/Berlin:20251026T110000
DTSTAMP:20250908T133540
END:VEVENT
END:VCALENDAR
