BEGIN:VCALENDAR
METHOD:PUBLISH
X-WR-TIMEZONE:Europe/Berlin
PRODID:https://www.siwitermine.de
CALSCALE:GREGORIAN
VERSION:2.0
BEGIN:VTIMEZONE
TZID:Europe/Berlin
BEGIN:DAYLIGHT
TZOFFSETFROM:+0100
TZOFFSETTO:+0200
DTSTART:19810329T020000
RRULE:FREQ=YEARLY;BYMONTH=3;BYDAY=-1SU
TZNAME:CEST
END:DAYLIGHT
BEGIN:STANDARD
TZOFFSETFROM:+0200
TZOFFSETTO:+0100
DTSTART:19961027T030000
RRULE:FREQ=YEARLY;BYMONTH=10;BYDAY=-1SU
TZNAME:CET
END:STANDARD
END:VTIMEZONE
BEGIN:VEVENT
LOCATION:Oberes Schloss | Burgstr. 5 | Siegen
SUMMARY:Stadtführung - von Liebesleid und Mordgeschichten | Zeitreise mit der Magda vom Oberen Schloss in das Jahr 1637
DESCRIPTION: Eine historische Stadtführung nimmt die Teilnehmenden mit ins Siegen des Jahres 1637, geprägt vom Dreißigjährigen Krieg. Themen sind unter anderem die Geschichte des Hexenturms, Fürst Johann Moritz Einzug mit schwedischen Soldaten sowie Anekdoten über das Leben einfacher Menschen jener Zeit. Die Führung verbindet Fakten mit lebendigen Erzählungen und macht die Alltagswelt des 17. Jahrhunderts anschaulich. Eine Anmeldung ist erforderlich, die Teilnahme ist kostenpflichtig. | Info: +49 (0)271 3038280 | https://www.siwitermine.de/60703 
UID:siwitermine/60703/2025-10-21-2W  
CLASS:PUBLIC
DTSTART;TZID=Europe/Berlin:20251026T143000
DTEND;TZID=Europe/Berlin:20251026T143000
DTSTAMP:20250826T154903
END:VEVENT
END:VCALENDAR
