BEGIN:VCALENDAR
METHOD:PUBLISH
X-WR-TIMEZONE:Europe/Berlin
PRODID:https://www.siwitermine.de
CALSCALE:GREGORIAN
VERSION:2.0
BEGIN:VTIMEZONE
TZID:Europe/Berlin
BEGIN:DAYLIGHT
TZOFFSETFROM:+0100
TZOFFSETTO:+0200
DTSTART:19810329T020000
RRULE:FREQ=YEARLY;BYMONTH=3;BYDAY=-1SU
TZNAME:CEST
END:DAYLIGHT
BEGIN:STANDARD
TZOFFSETFROM:+0200
TZOFFSETTO:+0100
DTSTART:19961027T030000
RRULE:FREQ=YEARLY;BYMONTH=10;BYDAY=-1SU
TZNAME:CET
END:STANDARD
END:VTIMEZONE
BEGIN:VEVENT
LOCATION:Sängerheim MGV Liedertafel Freudenberg | Am Silberstern 23 | 57258 Freudenberg
SUMMARY:FUNNY MONEY | Komödie von Ray Cooney
DESCRIPTION:Stellen Sie sich vor. Sie kommen an Ihrem Geburtstag völlig gestresst und mit Schnapsfahne nach Hause, werfen Ihre Frau mit wilden Fluchtplänen ins Chaos - und das alles wegen eines Koffers voller Bargeld, der nicht Ihrer ist. Willkommen in der Welt von Heinrich Liebig!Eigentlich wollte er nur eine ruhige Geburtstagsfeier mit Hähnchen und Freunden. Stattdessen stolpert Heinrich in ein Geldregen-Debakel: Ein Koffer. äußerlich wie seiner, enthält keine Brotdose, sondern 950.000 Mark - in bar! Barcelona ruft, das Taxi ist bestellt, aber seine Frau bleibt skeptisch: Erstmal essen wir!. sagt sie. Verständlich. Doch dann klingelt es. Leider kein Partygast. sondern ein schräger Polizist mit noch schrägeren Fragen. Und das ist erst der Anfang! Denn im Laufe des Abends häufen sich nicht nur die Gäste, sondern auch die Verwicklungen. Verdachtsmomente - und natürlich die Ausreden. Als dann auch noch der echte Koffereigentümer tot aus dem Fluss gezogen wird - und für Heinrich gehalten wird - ist das Tohuwabohu perfekt. Funny Money ist ein wilder Ritt durch Lügen, Zufälle, Identitätswirrwarr und jede Menge knalliger Pointen. Wenn Sie dachten, Ihre letzte Familienfeier sei aus dem Ruder gelaufen - warten Sie, bis Sie diese gesehen haben! Eine Komödie, die Ihnen Lachtränen in die Augen und Knoten ins Zwerchfell zaubert -typisch Ray Cooney! Mit Tempo, Witz und britischem Humor vom Feinsten. | Info: 02734 20154 | https://www.siwitermine.de/60656 
UID:siwitermine/60656/2025-10-21-2W  
CLASS:PUBLIC
DTSTART;TZID=Europe/Berlin:20251026T170000
DTEND;TZID=Europe/Berlin:20251026T170000
DTSTAMP:20250820T112143
END:VEVENT
END:VCALENDAR
